BEGIN:VCALENDAR
VERSION:2.0
PRODID:-//APEGS - ECPv6.15.20//NONSGML v1.0//EN
CALSCALE:GREGORIAN
METHOD:PUBLISH
X-WR-CALNAME:APEGS
X-ORIGINAL-URL:https://www.apegs.ca
X-WR-CALDESC:Events for APEGS
REFRESH-INTERVAL;VALUE=DURATION:PT1H
X-Robots-Tag:noindex
X-PUBLISHED-TTL:PT1H
BEGIN:VTIMEZONE
TZID:America/Regina
BEGIN:STANDARD
TZOFFSETFROM:-0600
TZOFFSETTO:-0600
TZNAME:CST
DTSTART:20210101T000000
END:STANDARD
END:VTIMEZONE
BEGIN:VEVENT
DTSTART;TZID=America/Regina:20220426T090000
DTEND;TZID=America/Regina:20220512T100000
DTSTAMP:20260423T121647
CREATED:20220327T031833Z
LAST-MODIFIED:20220327T031833Z
UID:7999-1650963600-1652349600@www.apegs.ca
SUMMARY:Get to the Point: A Practical Writing Course for Technical Professionals
DESCRIPTION:Title:  Get to the Point: A Practical Writing Course for Technical Professionals \nDate:  April 26\, 2022 \nCourse Format:  Online \nRegistration Link:  https://us02web.zoom.us/webinar/register/4616451303347/WN_sijK_xQwTJ2jAFzgLlE0ZQ \nRegistration deadline:  April 12\, 2022 \nDescription: \nDon’t waste your audience’s time: Be clear\, concise\, complete and confident in your communications. \nMost technical professionals avoided writing classes but now find that to succeed\, they must be able to put their ideas and information in writing. Emails\, reports\, proposals\, recommendations\, and business cases are still the most effective way we deliver information. How you communicate is what will differentiate you and your organization from your competition. \nThis highly interactive webinar series hosted by RGI International Inc. involves 9 hours of instruction (broken up into 6 – 1.5 hour sessions) and 3 hours of independent practical exercises. Breakout rooms will be used for group discussions\, exercises\, polls\, chat\, and Q&A to engage participants and obtain feedback during the sessions. \n\n\n\n\nSession Dates:  \n\n\n\nTuesday\, April 26\nThursday\, April 28\nTuesday\, May 3\nThursday\, May 5\nTuesday\, May 10\nThursday\, May 12\n\n\n\n\n\nTime: \n\n\n9:00 – 10:30 MST \n\n\n\n\nFee: \n\n\n$1100 CND per person\, includes feedback on 3 assignments and course material \n\n\n\n\nParticipants: \n\n\nMaximum 25 participants \n\n\n\n\nFormat: \n\n\nDelivered on ZOOM with live instruction \n\n\n\n\n  \nThis program is accredited by the Engineering Institute of Canada for 12 PDHs or 1.2 CEUs. \nFor questions about this course or what it will cover\, please contact Lisa Moretto at LisaM@rgilearning.com or www.rgilearning.com.
URL:https://www.apegs.ca/event/get-to-the-point-a-practical-writing-course-for-technical-professionals
LOCATION:Online event
END:VEVENT
BEGIN:VEVENT
DTSTART;TZID=America/Regina:20220501T080000
DTEND;TZID=America/Regina:20220504T120000
DTSTAMP:20260423T121647
CREATED:20220327T031833Z
LAST-MODIFIED:20220327T031833Z
UID:8000-1651392000-1651665600@www.apegs.ca
SUMMARY:CIM Convention 2022
DESCRIPTION:Mining for Future Generations \nWhat’s NEXT in Mining & Society \nVancouver\, BC \nMay 1 to 4\, 2022 \n  \nThe future is uncertain\, so let’s kick off the Convention with a Keynote from Beau Lotto on how to adapt to change. Take in multidisciplinary plenary panel discussions on the Future Needs of the Industry and the Path to the Future. \nFor more information and registration: https://convention.cim.org/2022/en/home/
URL:https://www.apegs.ca/event/cim-convention-2022
LOCATION:Online event
END:VEVENT
END:VCALENDAR