BEGIN:VCALENDAR
VERSION:2.0
PRODID:-//APEGS - ECPv6.15.20//NONSGML v1.0//EN
CALSCALE:GREGORIAN
METHOD:PUBLISH
X-ORIGINAL-URL:https://www.apegs.ca
X-WR-CALDESC:Events for APEGS
REFRESH-INTERVAL;VALUE=DURATION:PT1H
X-Robots-Tag:noindex
X-PUBLISHED-TTL:PT1H
BEGIN:VTIMEZONE
TZID:America/Regina
BEGIN:STANDARD
TZOFFSETFROM:-0600
TZOFFSETTO:-0600
TZNAME:CST
DTSTART:20210101T000000
END:STANDARD
END:VTIMEZONE
BEGIN:VEVENT
DTSTART;TZID=America/Regina:20220913T130000
DTEND;TZID=America/Regina:20220913T140000
DTSTAMP:20260423T055826
CREATED:20220609T151555Z
LAST-MODIFIED:20220609T151632Z
UID:8698-1663074000-1663077600@www.apegs.ca
SUMMARY:ACEC-SK Leadership Certification Program – Course Four
DESCRIPTION:Course Four Details \nBusiness Development: Foundational Top 10 Sales Skills for Engineers\nPresenter: Scott Donald\nDate: September 13\, 2022\nTime: 1:00 – 2:00 pm\nPrice: $145.00 \nMany organizations overlook the importance of foundational sales skills and following a basic sales process. In this webinar\, we will share with participants the not-so-secret skill everyone should know and practice to help to grow your business: helping your clients. \nLearning objectives \n\nLearn foundational selling and business development skills\nHear about what business development professionals should be doing\, but often don’t\nHow to make the most of your valuable (selling) time\n\nClick here for course details and registration.
URL:https://www.apegs.ca/event/acec-sk-leadership-certification-program-course-four
LOCATION:Online event
END:VEVENT
END:VCALENDAR