BEGIN:VCALENDAR
VERSION:2.0
PRODID:-//APEGS - ECPv6.15.20//NONSGML v1.0//EN
CALSCALE:GREGORIAN
METHOD:PUBLISH
X-ORIGINAL-URL:https://www.apegs.ca
X-WR-CALDESC:Events for APEGS
REFRESH-INTERVAL;VALUE=DURATION:PT1H
X-Robots-Tag:noindex
X-PUBLISHED-TTL:PT1H
BEGIN:VTIMEZONE
TZID:America/Regina
BEGIN:STANDARD
TZOFFSETFROM:-0600
TZOFFSETTO:-0600
TZNAME:CST
DTSTART:20210101T000000
END:STANDARD
END:VTIMEZONE
BEGIN:VEVENT
DTSTART;TZID=America/Regina:20220919T130000
DTEND;TZID=America/Regina:20220919T140000
DTSTAMP:20260423T055809
CREATED:20220912T151240Z
LAST-MODIFIED:20220912T151322Z
UID:9466-1663592400-1663596000@www.apegs.ca
SUMMARY:HDPE Case Studies and Lessons Learned
DESCRIPTION:The third in a series of HDPE webinars sponsored by the Alliance for PE Pipe. This session covers actual case studies for the top installation methods of HDPE. It is a very thorough session intended for the municipal owner and civil engineer with some HDPE experience. Field videos\, case studies and lots of photographs will illustrate numerous successful installations with HDPE. Small diameter through large diameter pipe will be included as well as installation above ground. \nModerator: Peter Dyke\, Exec Director\, PE Alliance \nSpeakers: Alan Ambler\, PE\, AM Trenchless & Rusty Reeves\, Core & Main \nClick here for more information and registration.
URL:https://www.apegs.ca/event/hdpe-case-studies-and-lessons-learned
LOCATION:Online event
END:VEVENT
END:VCALENDAR