BEGIN:VCALENDAR
VERSION:2.0
PRODID:-//APEGS - ECPv6.15.20//NONSGML v1.0//EN
CALSCALE:GREGORIAN
METHOD:PUBLISH
X-ORIGINAL-URL:https://www.apegs.ca
X-WR-CALDESC:Events for APEGS
REFRESH-INTERVAL;VALUE=DURATION:PT1H
X-Robots-Tag:noindex
X-PUBLISHED-TTL:PT1H
BEGIN:VTIMEZONE
TZID:America/Regina
BEGIN:STANDARD
TZOFFSETFROM:-0600
TZOFFSETTO:-0600
TZNAME:CST
DTSTART:20210101T000000
END:STANDARD
END:VTIMEZONE
BEGIN:VEVENT
DTSTART;TZID=America/Regina:20220920T080000
DTEND;TZID=America/Regina:20220922T170000
DTSTAMP:20260423T055828
CREATED:20220825T220231Z
LAST-MODIFIED:20220825T220527Z
UID:9373-1663660800-1663866000@www.apegs.ca
SUMMARY:Carbon Capture Canada
DESCRIPTION:Carbon Capture Canada is the only Pan Canadian national convention showcasing Canada’s incredible and almost untapped opportunity for carbon capture and underground storage innovation technology and destination for global investment. \nClick here for more information. \n 
URL:https://www.apegs.ca/event/carbon-capture-canada
LOCATION:Edmonton Convention Centre\, 9797 Jasper Ave\, Edmonton\, Alberta\, T5J 1N9\, Canada
END:VEVENT
END:VCALENDAR