BEGIN:VCALENDAR
VERSION:2.0
PRODID:-//APEGS - ECPv6.15.20//NONSGML v1.0//EN
CALSCALE:GREGORIAN
METHOD:PUBLISH
X-ORIGINAL-URL:https://www.apegs.ca
X-WR-CALDESC:Events for APEGS
REFRESH-INTERVAL;VALUE=DURATION:PT1H
X-Robots-Tag:noindex
X-PUBLISHED-TTL:PT1H
BEGIN:VTIMEZONE
TZID:America/Regina
BEGIN:STANDARD
TZOFFSETFROM:-0600
TZOFFSETTO:-0600
TZNAME:CST
DTSTART:20210101T000000
END:STANDARD
END:VTIMEZONE
BEGIN:VEVENT
DTSTART;TZID=America/Regina:20220926T110000
DTEND;TZID=America/Regina:20220926T120000
DTSTAMP:20260423T043042
CREATED:20220922T220226Z
LAST-MODIFIED:20220922T220226Z
UID:9534-1664190000-1664193600@www.apegs.ca
SUMMARY:Honouring our learning path towards Truth & Reconciliation
DESCRIPTION:Ahead of the National Day for Truth & Reconciliation\, join Reconciliation Education in an important conversation with Dene Elder & Survivor Margaret Reynolds (Saskatchewan) with celebrated Anishnaabe film actor\, hip hop artist and activist for reconciliation\, Samian (Québec). Both\, featured in the online course\, 4 Seasons of Reconciliation. \nClick here for more information and registration.
URL:https://www.apegs.ca/event/honouring-our-learning-path-towards-truth-reconciliation
LOCATION:Online event
END:VEVENT
END:VCALENDAR