BEGIN:VCALENDAR
VERSION:2.0
PRODID:-//APEGS - ECPv6.15.20//NONSGML v1.0//EN
CALSCALE:GREGORIAN
METHOD:PUBLISH
X-ORIGINAL-URL:https://www.apegs.ca
X-WR-CALDESC:Events for APEGS
REFRESH-INTERVAL;VALUE=DURATION:PT1H
X-Robots-Tag:noindex
X-PUBLISHED-TTL:PT1H
BEGIN:VTIMEZONE
TZID:America/Regina
BEGIN:STANDARD
TZOFFSETFROM:-0600
TZOFFSETTO:-0600
TZNAME:CST
DTSTART:20210101T000000
END:STANDARD
END:VTIMEZONE
BEGIN:VEVENT
DTSTART;TZID=America/Regina:20221004T080000
DTEND;TZID=America/Regina:20221013T170000
DTSTAMP:20260423T043050
CREATED:20220928T213039Z
LAST-MODIFIED:20220928T213039Z
UID:9566-1664870400-1665680400@www.apegs.ca
SUMMARY:Qualified Persons Training
DESCRIPTION:The Water Security Agency is partnering with Southeast College\, to provide a dynamic and informational Introductory Qualified Persons Training course. This free course consists of five instructor-led online sessions. \nThe course offers the introductory concepts that are important to ensure people who want to work as a Qualified Person (QP) have the appropriate skills and knowledge necessary to assist producers with completing Drainage Applications. \nDuring this course attendees will learn about: \n\nWSA’s Agricultural Water Management Strategy\,\nthe roles of a QP and who can be a QP\,\nWSA’s Drainage Approval Process\,\nWhat drainage is\,\nThe types of wetlands and how to classify a wetland\,\nclimate change and how this should be considered in the design of drainage works\,\nthe impacts of drainage\,\nHow to complete a drainage application\,\nthe importance of land control\,\nthe risks of drainage networks and how to mitigate for these risks to ensure the design of agriculture water management projects is resilient and reduces the risks of the works.\n\nIf anyone is interested in participating in this course\, the next online Introductory QP Training Course will start next on October 4\, 2022\, and it will consist of five virtual online sessions that are ~3 hours in length. So\, the sessions start on Tuesday October 4th and finish on Thursday October 13th and are scheduled between 9am and 12pm for each of the five sessions. \nYou will be required to pre-register for this workshop. If you are interested in attending please go to Southeast College’s website to register: https://www.southeastcollege.org/courses/introductory-qualified-persons-training/. \nTips to register: scroll to the bottom of the webpage and click on the dates you want to register for\, this will result in the date being underlined\, then go back to the top of the webpage and click on the green “Register” button on the top right of the webpage and then follow the instructions. \nNote: If you can’t take the October 2022 session\, this course will also be offered the weeks of November 8 – November 17\, 2022 (five mornings between 9am-12pm).  \nIf you have any questions about the online Introductory QP Training Course or are having difficulties registering for the course\, please contact Heather Davies (Heather.Davies@wsask.ca).
URL:https://www.apegs.ca/event/qualified-persons-training
LOCATION:Online event
END:VEVENT
BEGIN:VEVENT
DTSTART;TZID=America/Regina:20221013T110000
DTEND;TZID=America/Regina:20221013T120000
DTSTAMP:20260423T043050
CREATED:20220824T192554Z
LAST-MODIFIED:20220824T192554Z
UID:9365-1665658800-1665662400@www.apegs.ca
SUMMARY:CCDC Document Webinar
DESCRIPTION:CCDC launched CCDC Document Webinars\, an exciting new initiative aimed at providing information and guidance about the content and use of our standard construction documents. We have heard your questions and are ready to provide simple yet comprehensive answers! These author-led sessions are designed to explain the underlying principles behind CCDC documents and teach you their correct application and use. To purchase CCDC documents and seals\, please click here for instructions. \nWith the new edition of CCDC 24 – 2022 “A Guide to Model Forms and Support Documents”\, the Canadian Construction Documents Committee (CCDC) is working to design its October webinar around providing an overview of this important guide document. \nThe CCDC authors will explain the details of the administrative processes involved\, including project financial information\, payment\, supplemental instruction\, change\, notification\, and warranty. This webinar will run through the model forms suggested to meet these administrative requirements\, featuring both the new cash allowance expenditure and the Ready-for-Takeover application forms. Contract administrators will benefit from the session as it will allow them to better understand CCDC 24 as a useful tool. Become confident in your work and enjoy stress-free contract administration. \nRegistration: \nEnglish CCDC 24 webinar: Thursday\, October 13\nFrench CCDC 24 webinar: Thursday\, October 27 \nLength: 60 minutes \nStart time: The webinar will start at 1:00 p.m. (ET) \nPrice: $65 + tax \nSubscribe to CCDC updates to stay informed on when we will be holding more in the future!
URL:https://www.apegs.ca/event/ccdc-document-webinar-2
LOCATION:Online event
END:VEVENT
END:VCALENDAR