BEGIN:VCALENDAR
VERSION:2.0
PRODID:-//APEGS - ECPv6.15.20//NONSGML v1.0//EN
CALSCALE:GREGORIAN
METHOD:PUBLISH
X-WR-CALNAME:APEGS
X-ORIGINAL-URL:https://www.apegs.ca
X-WR-CALDESC:Events for APEGS
REFRESH-INTERVAL;VALUE=DURATION:PT1H
X-Robots-Tag:noindex
X-PUBLISHED-TTL:PT1H
BEGIN:VTIMEZONE
TZID:America/Regina
BEGIN:STANDARD
TZOFFSETFROM:-0600
TZOFFSETTO:-0600
TZNAME:CST
DTSTART:20210101T000000
END:STANDARD
END:VTIMEZONE
BEGIN:VEVENT
DTSTART;TZID=America/Regina:20221101T080000
DTEND;TZID=America/Regina:20221101T170000
DTSTAMP:20260423T031501
CREATED:20220920T193823Z
LAST-MODIFIED:20220920T193823Z
UID:9510-1667289600-1667322000@www.apegs.ca
SUMMARY:Strategic Business Overview and Procurement Forum
DESCRIPTION:Learn about Saskatchewan infrastructure plans and how to do business with provincial and municipal governments and educational institutions. \nSaskatchewan is investing in infrastructure for a growing province. Saskatchewan’s 2022-23 Budget includes record investment of nearly $3.2 billion in capital projects to meet the needs of communities across the province. This includes $1.4 billion in capital projects across executive government\, and $1.8 billion in capital projects by Saskatchewan’s commercial Crown Corporations. \nThe forum will provide an opportunity to learn more about the major infrastructure plans around information technology\, construction\, engineering and manufacturing services of Saskatchewan Crown Corporations and ministries. There will also be a chance to network and to learn “how to do business” with the Crowns\, ministries and others. \nCurrent confirmed presenters include SaskTel\, SaskPower\, SaskEnergy\, SGI\, Ministry of SaskBuilds and Procurement\, SaskWater and Saskatchewan Polytechnic\, University of Saskatchewan\, City of Saskatoon and City of Regina. \nClick here for more information and registration.
URL:https://www.apegs.ca/event/strategic-business-overview-and-procurement-forum
LOCATION:World Trade Centre Saskatoon at Prairieland Park\, 503 Ruth St W\, Saskatoon\, Saskatchewan\, S7K 4E4\, Canada
END:VEVENT
BEGIN:VEVENT
DTSTART;TZID=America/Regina:20221101T080000
DTEND;TZID=America/Regina:20221103T170000
DTSTAMP:20260423T031501
CREATED:20221025T200522Z
LAST-MODIFIED:20221025T200557Z
UID:9824-1667289600-1667494800@www.apegs.ca
SUMMARY:ACEC-Canada 2022 National Leadership Conference
DESCRIPTION:Registration is now open! \nSpace is limited for the in-person event. \nIn-person conference: $935 plus taxes\nVirtual sessions: Free \nAbout this event \nECONOMY + ENVIRONMENT = An Integrated Vision will be an opportunity for the consulting engineering sector to come together to discuss the role our industry can and should play in creating a more resilient and robust economy. \nHealth and Safety Policy \nWe are committed to producing a safe event for our attendees. ACEC has determined that only fully vaccinated individuals will be permitted to attend the in person national leadership conference and the Canadian Consulting Engineering Awards in Ottawa. Requiring vaccinations for in-person attendees helps safeguard those attendees who may be immune compromised\, who have health conditions that may have reduced the efficacy of their vaccinations\, and/or who have family members who fall into these categories. Fully vaccinated means that 14 days have passed since receiving a second dose of Health Canada approved vaccines. \nOur safety protocols and best practices around COVID-19 will continue to respond to the public health guidance and will be updated to reflect changes to circumstances. \nClick here for more information and registration.
URL:https://www.apegs.ca/event/acec-canada-2022-national-leadership-conference
LOCATION:Online event
END:VEVENT
END:VCALENDAR