BEGIN:VCALENDAR
VERSION:2.0
PRODID:-//APEGS - ECPv6.15.20//NONSGML v1.0//EN
CALSCALE:GREGORIAN
METHOD:PUBLISH
X-ORIGINAL-URL:https://www.apegs.ca
X-WR-CALDESC:Events for APEGS
REFRESH-INTERVAL;VALUE=DURATION:PT1H
X-Robots-Tag:noindex
X-PUBLISHED-TTL:PT1H
BEGIN:VTIMEZONE
TZID:America/Regina
BEGIN:STANDARD
TZOFFSETFROM:-0600
TZOFFSETTO:-0600
TZNAME:CST
DTSTART:20220101T000000
END:STANDARD
END:VTIMEZONE
BEGIN:VEVENT
DTSTART;TZID=America/Regina:20230121T120000
DTEND;TZID=America/Regina:20230121T163000
DTSTAMP:20260423T013622
CREATED:20221116T213740Z
LAST-MODIFIED:20221116T213740Z
UID:10008-1674302400-1674318600@www.apegs.ca
SUMMARY:LEED Green Associate Training
DESCRIPTION:LEED (Leadership in Energy and Environmental Design) is simply a sustainability scorecard for green buildings. The LEED Green Associate is the only professional designation to show employers and clients you have certified knowledge in the field. \nTo date\, this course and its materials have proven to be instrumental in helping over 8000 students pass their respective exams at a 99% pass rate. This course is offered at a quarter of the price and time as the competition and is geared at allowing students to graduate with letters after their name! This course is instructed by a USGBC Faculty member and is the most effective way to pass. \nClick here for more information and registration.
URL:https://www.apegs.ca/event/leed-green-associate-training-7
LOCATION:Online event
END:VEVENT
END:VCALENDAR