BEGIN:VCALENDAR
VERSION:2.0
PRODID:-//APEGS - ECPv6.15.20//NONSGML v1.0//EN
CALSCALE:GREGORIAN
METHOD:PUBLISH
X-ORIGINAL-URL:https://www.apegs.ca
X-WR-CALDESC:Events for APEGS
REFRESH-INTERVAL;VALUE=DURATION:PT1H
X-Robots-Tag:noindex
X-PUBLISHED-TTL:PT1H
BEGIN:VTIMEZONE
TZID:America/Regina
BEGIN:STANDARD
TZOFFSETFROM:-0600
TZOFFSETTO:-0600
TZNAME:CST
DTSTART:20220101T000000
END:STANDARD
END:VTIMEZONE
BEGIN:VEVENT
DTSTART;TZID=America/Regina:20230123T083000
DTEND;TZID=America/Regina:20230127T163000
DTSTAMP:20260423T013701
CREATED:20230109T214621Z
LAST-MODIFIED:20230109T214621Z
UID:10394-1674462600-1674837000@www.apegs.ca
SUMMARY:Saskatchewan Building Officials Association - 2023 Winter Training Week
DESCRIPTION:The SBOA is proud to present the Winter Training Week. \nIt is our goal to continue to provide all code practitioners with formal building code training and professional development opportunities. “Training Week” will provide an excellent informative series of training sessions to help continue to develop\, enhance\, and advance your education\, knowledge\, and skills in building code application! \nClick here for more information and to register.
URL:https://www.apegs.ca/event/saskatchewan-building-officials-association-2023-winter-training-week
LOCATION:Cosmo Civic Center\, 3130 Laurier Drive\, Saskatoon\, Saskatchewan\, S7L 5J7\, Canada
END:VEVENT
BEGIN:VEVENT
DTSTART;TZID=America/Regina:20230124T090000
DTEND;TZID=America/Regina:20230124T120000
DTSTAMP:20260423T013701
CREATED:20220609T152600Z
LAST-MODIFIED:20220609T152600Z
UID:8705-1674550800-1674561600@www.apegs.ca
SUMMARY:ACEC-SK Leadership Certification Program – Course Seven
DESCRIPTION:Course Seven Details \nMental Health: Managing Mental Health at Work\nPresenter: Jordan Friesen\nDate: January 24\, 2023\nTime: 9:00 – 12:00 pm\nPrice: $350.00 \nThis workshop will focus on practical strategies to help managers identify and respond to employees who may be experiencing mental health issues at work. Using a mix of didactic\, group-based\, and case study learning\, participants will leave with an understanding of warning signs\, how to approach a conversation with an employee\, and where to direct them for help. Importantly\, managers will understand what is and is not their responsibility with respect to managing mental health issues at work. \nLearning objectives \n\nDescribe functional signs that an employee may be experiencing poor mental health\nDemonstrate practical strategies to have conversations with employees about their mental health\nDirect employees to appropriate internal or external resources for support with mental health concerns\n\nClick here for course details and registration.
URL:https://www.apegs.ca/event/acec-sk-leadership-certification-program-course-seven
LOCATION:Online event
END:VEVENT
BEGIN:VEVENT
DTSTART;TZID=America/Regina:20230124T090000
DTEND;TZID=America/Regina:20230124T120000
DTSTAMP:20260423T013701
CREATED:20230113T165703Z
LAST-MODIFIED:20230113T170923Z
UID:10454-1674550800-1674561600@www.apegs.ca
SUMMARY:Managing Mental Health at Work
DESCRIPTION:Presenters: Jordan Friesen \nLocation: Virtual \nDate: January 24\, 2023 \nTime: 9:00-12:00pm\nPrice: $350.00 \n  \nThis workshop is part of the ACEC-SK Leadership Certification Program 2022-2023. It will focus on practical strategies to help managers identify and respond to employees who may be experiencing mental health issues at work. Using a mix of didactic\, group-based\, and case study learning\, participants will leave with an understanding of warning signs\, how to approach a conversation with an employee\, and where to direct them for help. Importantly\, managers will understand what is and is not their responsibility with respect to managing mental health issues at work. \nLearning objectives:\n• Describe functional signs that an employee may be experiencing poor mental health\n• Demonstrate practical strategies to have conversations with employees about their mental health\n• Direct employees to appropriate internal or external resources for support with mental health concerns \nCourse Details and Registration \nSpeakers Bio:\nJordan has years of experience in training\, education\, mentorship\, public speaking and research. He prides himself on being able to distill complex ideas into actionable insights for a wide range of audiences\, from executives to students. He is a sought-after subject matter expert on workplace mental health and has been featured in a range of national media coverage. Jordan’s education includes a Master of Occupational Therapy from the University of Manitoba. He is a CMHA Certified Psychological Health and Safety Advisor and is certified by Multi – Health Systems Inc. to deliver and interpret their EQi 2.0 suite of emotional assessment tools for leaders.
URL:https://www.apegs.ca/event/managing-mental-health-at-work
LOCATION:Online
ORGANIZER;CN="ACEC-SK":MAILTO:events@acec-sk.ca
END:VEVENT
BEGIN:VEVENT
DTSTART;TZID=America/Regina:20230124T090000
DTEND;TZID=America/Regina:20230124T170000
DTSTAMP:20260423T013701
CREATED:20221215T165702Z
LAST-MODIFIED:20221215T165702Z
UID:10275-1674550800-1674579600@www.apegs.ca
SUMMARY:Regina Construction Association - Interpreting Construction Documents Course
DESCRIPTION:Construction Documents are the basic means of communication in the construction industry. The key to success in our industry is a combination of project comprehension and execution.  The first aspect of this process is properly interpreting construction documents and knowing where or how to find the information.  The second aspect of this process involves an understanding of the project execution requirement from the bid process through to substantial performance of the work.  This Workshop has it all.  Kurt Dietrich is the presenter\, he has a wealth of construction experience to impart!  Breakfast and lunch provided. \nMember Cost: $500.00\nNon-member Cost: $700.00 \nRegister by completing the below form and emailing it to info@rcaonline.ca. Registration closes on January 18\, 2023. \nInterpreting Construction Documents January 24\, 2023 Form
URL:https://www.apegs.ca/event/regina-construction-association-interpreting-construction-documents-course
LOCATION:Regina Construction Association\, 1935 Elphinstone St\, Regina\, Saskatchewan\, S4T 3N3\, Canada
END:VEVENT
END:VCALENDAR