BEGIN:VCALENDAR
VERSION:2.0
PRODID:-//APEGS - ECPv6.15.20//NONSGML v1.0//EN
CALSCALE:GREGORIAN
METHOD:PUBLISH
X-WR-CALNAME:APEGS
X-ORIGINAL-URL:https://www.apegs.ca
X-WR-CALDESC:Events for APEGS
REFRESH-INTERVAL;VALUE=DURATION:PT1H
X-Robots-Tag:noindex
X-PUBLISHED-TTL:PT1H
BEGIN:VTIMEZONE
TZID:America/Regina
BEGIN:STANDARD
TZOFFSETFROM:-0600
TZOFFSETTO:-0600
TZNAME:CST
DTSTART:20220101T000000
END:STANDARD
END:VTIMEZONE
BEGIN:VEVENT
DTSTART;TZID=America/Regina:20230131T080000
DTEND;TZID=America/Regina:20230131T170000
DTSTAMP:20260422T223816
CREATED:20230104T162715Z
LAST-MODIFIED:20230104T162715Z
UID:10350-1675152000-1675184400@www.apegs.ca
SUMMARY:Solar Energy: An Introduction to Photovoltaic Solar Power
DESCRIPTION:This course is an overview of PV solar power. We discuss how solar cells work\, which PV technologies are used most\, which emerging technologies show the greatest promise\, and how to quickly size a PV array. We look at the maximum theoretical efficiency of a solar cell containing only one PN junction and what researchers are doing to overcome it. \nThis course is suitable for engineers who would like to learn the major principles\, advantages and disadvantages of solar photovoltaics. \nTime: 2-hour self-paced course. Access this course online 24/7 for up to 2 years.\nLocation: Online – Register anytime and gain immediate access \nClick here for more information and to register.
URL:https://www.apegs.ca/event/solar-energy-an-introduction-to-photovoltaic-solar-power
LOCATION:Online
END:VEVENT
BEGIN:VEVENT
DTSTART;TZID=America/Regina:20230131T170000
DTEND;TZID=America/Regina:20230131T220000
DTSTAMP:20260422T223816
CREATED:20221117T174306Z
LAST-MODIFIED:20221215T163238Z
UID:10028-1675184400-1675202400@www.apegs.ca
SUMMARY:46th C.J. Mackenzie Gala of Engineering Excellence
DESCRIPTION:On January 31\, 2023\, the College of Engineering at the University of Saskatchewan\, in partnership with the host department\, Civil Engineering\, will celebrate the achievements of alumnus June Verhelst (BE’83) at the 46th C.J. Mackenzie Gala of Engineering Excellence. Each year\, the gala recognizes an alumnus who has achieved a position of eminence within their profession and honours their achievements. They are recognized as the evening’s Distinguished Lecturer and are inducted into the College of Engineering’s Alumni Wall of Distinction. \nThe College of Engineering looks forward to an evening with one of its most notable alumni\, joined by engineering colleagues\, industry professionals\, faculty\, staff and students to celebrate engineering excellence! \nClick here for more information and to register.
URL:https://www.apegs.ca/event/46th-c-j-mackenzie-gala-of-engineering-excellence
LOCATION:Prairieland Park\, 503 Ruth Street West\, Saskatoon\, SK\, S7K 4E4\, Canada
END:VEVENT
END:VCALENDAR