BEGIN:VCALENDAR
VERSION:2.0
PRODID:-//APEGS - ECPv6.15.20//NONSGML v1.0//EN
CALSCALE:GREGORIAN
METHOD:PUBLISH
X-WR-CALNAME:APEGS
X-ORIGINAL-URL:https://www.apegs.ca
X-WR-CALDESC:Events for APEGS
REFRESH-INTERVAL;VALUE=DURATION:PT1H
X-Robots-Tag:noindex
X-PUBLISHED-TTL:PT1H
BEGIN:VTIMEZONE
TZID:America/Regina
BEGIN:STANDARD
TZOFFSETFROM:-0600
TZOFFSETTO:-0600
TZNAME:CST
DTSTART:20220101T000000
END:STANDARD
END:VTIMEZONE
BEGIN:VEVENT
DTSTART;TZID=America/Regina:20230228T080000
DTEND;TZID=America/Regina:20230228T170000
DTSTAMP:20260422T204821
CREATED:20230104T162843Z
LAST-MODIFIED:20230104T162843Z
UID:10352-1677571200-1677603600@www.apegs.ca
SUMMARY:How Sustainable is PV Solar Power? An Intro to Life Cycle Analysis and Planetary Boundaries
DESCRIPTION:If you search “solar photovoltaic sustainability” on the internet\, you will find a multitude of articles hailing the technology as green\, clean and ready to spearhead our world into a sustainable future. However\, you will also come across articles that are much more critical of the technology. This begs the question\, “How does one go about accessing the environmental impacts of a technology in a systematic\, objective way?” We answer this question using PV solar power as a case study. \nIn this course\, we study an LCA (Life Cycle Assessment) of solar photovoltaic power and learn of its impacts on human health\, freshwater\, climate change\, ecosystems and land use. We compare the environmental performance of solar PV to other renewable and non-renewable electricity generation technologies. Finally\, we take an in-depth look at a scientific article in which researchers show how countries can determine their optimal energy mix given their available resources and environmental objectives. \nTime: 4-hour self-paced course. Access this course online 24/7 for up to 2 years.\nLocation: Online – Register anytime and gain immediate access \nClick here for more information and to register.
URL:https://www.apegs.ca/event/how-sustainable-is-pv-solar-power-an-intro-to-life-cycle-analysis-and-planetary-boundaries
LOCATION:Online
END:VEVENT
BEGIN:VEVENT
DTSTART;TZID=America/Regina:20230228T140000
DTEND;TZID=America/Regina:20230228T153000
DTSTAMP:20260422T204821
CREATED:20230216T181910Z
LAST-MODIFIED:20230216T181910Z
UID:10711-1677592800-1677598200@www.apegs.ca
SUMMARY:ClimateWest - Advancing Climate Resilience in the Prairies
DESCRIPTION:Join ClimateWest for a presentation and discussion on Environment and Climate Change Canada’s (ECCC) Map of Adaptation Actions—a collection of climate change adaptation examples designed to aid decision-makers and others acting on climate change. This webinar will explore the Map’s features and how it can be used to inspire adaptation projects. It will also focus on highlighting climate adaptation actions from the Town of High River\, Alberta. \nSpeakers will include: \n\nKerra Chomlak\, ClimateWest\nCasey Clunas\, Canadian Centre for Climate Services\nTazmin Holy\, Canadian Centre for Climate Services\nMayor Craig Snodgrass\, Town of High River\n\nClick here for more information and to register.
URL:https://www.apegs.ca/event/climatewest-advancing-climate-resilience-in-the-prairies
LOCATION:Online
END:VEVENT
BEGIN:VEVENT
DTSTART;TZID=America/Regina:20230228T160000
DTEND;TZID=America/Regina:20230228T203000
DTSTAMP:20260422T204821
CREATED:20221116T213916Z
LAST-MODIFIED:20221116T213916Z
UID:10014-1677600000-1677616200@www.apegs.ca
SUMMARY:LEED Green Associate Training
DESCRIPTION:LEED (Leadership in Energy and Environmental Design) is simply a sustainability scorecard for green buildings. The LEED Green Associate is the only professional designation to show employers and clients you have certified knowledge in the field. \nTo date\, this course and its materials have proven to be instrumental in helping over 8000 students pass their respective exams at a 99% pass rate. This course is offered at a quarter of the price and time as the competition and is geared at allowing students to graduate with letters after their name! This course is instructed by a USGBC Faculty member and is the most effective way to pass. \nClick here for more information and registration.
URL:https://www.apegs.ca/event/leed-green-associate-training-9
LOCATION:Online
END:VEVENT
END:VCALENDAR