BEGIN:VCALENDAR
VERSION:2.0
PRODID:-//APEGS - ECPv6.15.20//NONSGML v1.0//EN
CALSCALE:GREGORIAN
METHOD:PUBLISH
X-WR-CALNAME:APEGS
X-ORIGINAL-URL:https://www.apegs.ca
X-WR-CALDESC:Events for APEGS
REFRESH-INTERVAL;VALUE=DURATION:PT1H
X-Robots-Tag:noindex
X-PUBLISHED-TTL:PT1H
BEGIN:VTIMEZONE
TZID:America/Regina
BEGIN:STANDARD
TZOFFSETFROM:-0600
TZOFFSETTO:-0600
TZNAME:CST
DTSTART:20220101T000000
END:STANDARD
END:VTIMEZONE
BEGIN:VEVENT
DTSTART;TZID=America/Regina:20230301T110000
DTEND;TZID=America/Regina:20230301T130000
DTSTAMP:20260422T204820
CREATED:20230214T143219Z
LAST-MODIFIED:20230215T144625Z
UID:10668-1677668400-1677675600@www.apegs.ca
SUMMARY:Engineers Canada - Reflecting Back and Looking Forward: Engineering Culture and the Future of the Profession
DESCRIPTION:The culture of engineering is a complex interplay among the people in engineering\, the institutions that train them\, and the societies they serve. The engineering profession plays a critical role in society; hundreds of thousands of engineers across the country create things that will forever change the way we interact with the world around us. But at the same time\, the engineering profession has long been\, and continues to be\, male-dominated and often faces accusations of elitism and callousness. Not everyone feels welcome in engineering. We need to shift the culture of the engineering profession. \nOn March 1 we kick off National Engineering Month 2023 with a panel discussion about the culture of engineering. The panellists will discuss the culture shift that is taking place within the profession\, from the calls for changes to the Iron Ring Ceremony\, efforts to diversify and attract more women to the profession\, to issues related to environmental justice and reconciliation. \nEngineers\, EITs\, engineering students\, engineering employers—don’t miss this important conversation about the future of your profession. \nModerator:\n• Adrian Harewood\, MA\, Former Award-Winning CBC TV Journalist & Radio host\, Associate Professor\, Journalism & Communications\, Carleton University \nPanellists:\n• John Gamble\, P.Eng.\, CEO and President\, Association of Consulting Engineering Companies – Canada\n• Randy Herrmann\, FCAE\, FEC\, P.Eng.\, Director of the Engineering Access Program (ENGAP)\, University of Manitoba\n• Jeanette Southwood\, FCAE\, FEC\, LL.D. (honoris causa)\, P.Eng.\, Vice President\, Corporate Affairs and Strategic Partnerships\, Engineers Canada\n• Kari Zacharias\, PhD\, EIT\, Assistant Professor\, Centre for Engineering Professional Practice and Engineering Education\, University of Manitoba; Co-facilitator\, Retool the Ring \nClick here for more information and to register.
URL:https://www.apegs.ca/event/reflecting-back-and-looking-forward-engineering-culture-and-the-future-of-the-profession
LOCATION:Online
END:VEVENT
END:VCALENDAR