BEGIN:VCALENDAR
VERSION:2.0
PRODID:-//APEGS - ECPv6.15.20//NONSGML v1.0//EN
CALSCALE:GREGORIAN
METHOD:PUBLISH
X-ORIGINAL-URL:https://www.apegs.ca
X-WR-CALDESC:Events for APEGS
REFRESH-INTERVAL;VALUE=DURATION:PT1H
X-Robots-Tag:noindex
X-PUBLISHED-TTL:PT1H
BEGIN:VTIMEZONE
TZID:America/Regina
BEGIN:STANDARD
TZOFFSETFROM:-0600
TZOFFSETTO:-0600
TZNAME:CST
DTSTART:20220101T000000
END:STANDARD
END:VTIMEZONE
BEGIN:VEVENT
DTSTART;TZID=America/Regina:20230307T080000
DTEND;TZID=America/Regina:20230309T170000
DTSTAMP:20260422T204748
CREATED:20230124T211757Z
LAST-MODIFIED:20230124T211757Z
UID:10545-1678176000-1678381200@www.apegs.ca
SUMMARY:Aboriginal Consultation and Negotiating a Consultation Agreement Workshop
DESCRIPTION:Is your organization having challenges making inroads with Aboriginal people and Aboriginal Organizations. Are you an Aboriginal group who wants to better engage with Industry? \nIf you want to better consult with Aboriginal People/Industry or you are in a position that requires that you engage Aboriginal People/Industry (I.E. Stakeholder Relations\, Consultation Department\, Community Relations\, Chief and Council\, Surface Land\, Aboriginal Relations) and have asked questions\, then this two-day workshop is for you. \nThis two-day workshop is designed to provide practical solutions: \n\nsolutions that are based on the combined expertise of a First Nation law graduate who has worked for both Industry and Aboriginal groups for over 25 years and\na First Nation Consultant who has been in business since 1996 and has worked specifically in the area of Aboriginal Consultation since 2010.\n\nTwo-day workshop – March 7 (day 1) and March 9 (day 2). \nClick here for more information and to register.
URL:https://www.apegs.ca/event/aboriginal-consultation-and-negotiating-a-consultation-agreement-workshop-4
LOCATION:Online
END:VEVENT
BEGIN:VEVENT
DTSTART;TZID=America/Regina:20230307T083000
DTEND;TZID=America/Regina:20230316T120000
DTSTAMP:20260422T204748
CREATED:20221122T221910Z
LAST-MODIFIED:20221122T221910Z
UID:10100-1678177800-1678968000@www.apegs.ca
SUMMARY:Water Security Agency – Introductory Qualified Persons Training Course
DESCRIPTION:Are you interested in working with agricultural producers to streamline the drainage approval process? \nThis course introduces participants to the basics of drainage\, the drainage works application\, and the approval process\, including the roles and responsibilities of the Water Security Agency\, the applicant(s)\, and the Qualified Person (QP). \nMultiple dates/locations available: \nVirtual \n\nMar 7\, 2023 – Mar 16\, 2023\nApr 4\, 2023 – Apr 13\, 2023\n\nClick here for more information and to register for this course. \nDid you know that once you have completed the Introductory QP Training Course that you can take other supplemental QP training courses that the Water Security Agency has developed? To find out more please go to the QP Training Courses webpage.
URL:https://www.apegs.ca/event/water-security-agency-introductory-qualified-persons-training-course-4
LOCATION:Online
END:VEVENT
BEGIN:VEVENT
DTSTART;TZID=America/Regina:20230309T143000
DTEND;TZID=America/Regina:20230309T160000
DTSTAMP:20260422T204748
CREATED:20230307T151635Z
LAST-MODIFIED:20230307T151635Z
UID:10860-1678372200-1678377600@www.apegs.ca
SUMMARY:SES Engineering Month Industry Tour ―VIDO
DESCRIPTION:Join the Saskatoon Engineering Society for a tour of VIDO―Saskatoon’s infectious disease laboratory. \nClick here for more information and to register.
URL:https://www.apegs.ca/event/ses-engineering-month-industry-tour-%e2%80%95vido
LOCATION:VIDO-InterVac\, 117 Veterinary Road\, Saskatoon\, Saskatchewan\, S7N 5E3\, Canada
END:VEVENT
END:VCALENDAR