BEGIN:VCALENDAR
VERSION:2.0
PRODID:-//APEGS - ECPv6.15.20//NONSGML v1.0//EN
CALSCALE:GREGORIAN
METHOD:PUBLISH
X-WR-CALNAME:APEGS
X-ORIGINAL-URL:https://www.apegs.ca
X-WR-CALDESC:Events for APEGS
REFRESH-INTERVAL;VALUE=DURATION:PT1H
X-Robots-Tag:noindex
X-PUBLISHED-TTL:PT1H
BEGIN:VTIMEZONE
TZID:America/Regina
BEGIN:STANDARD
TZOFFSETFROM:-0600
TZOFFSETTO:-0600
TZNAME:CST
DTSTART:20220101T000000
END:STANDARD
END:VTIMEZONE
BEGIN:VEVENT
DTSTART;TZID=America/Regina:20230317T083000
DTEND;TZID=America/Regina:20230317T130000
DTSTAMP:20260422T204821
CREATED:20230307T152126Z
LAST-MODIFIED:20230307T152126Z
UID:10866-1679041800-1679058000@www.apegs.ca
SUMMARY:SES Engineering Month Industrial Tour—Canadian Light Source
DESCRIPTION:Join the Saskatoon Engineering Society for a tour of the Canadian Light Source (Synchrotron). \nClick here for more information and to register.
URL:https://www.apegs.ca/event/ses-engineering-month-industrial-tour-canadian-light-source
LOCATION:Canadian Light Source\, 44 Innovation Blvd\, Saskatoon\, Saskatchewan\, S7N 2V3\, Canada
END:VEVENT
END:VCALENDAR