BEGIN:VCALENDAR
VERSION:2.0
PRODID:-//APEGS - ECPv6.15.20//NONSGML v1.0//EN
CALSCALE:GREGORIAN
METHOD:PUBLISH
X-WR-CALNAME:APEGS
X-ORIGINAL-URL:https://www.apegs.ca
X-WR-CALDESC:Events for APEGS
REFRESH-INTERVAL;VALUE=DURATION:PT1H
X-Robots-Tag:noindex
X-PUBLISHED-TTL:PT1H
BEGIN:VTIMEZONE
TZID:America/Regina
BEGIN:STANDARD
TZOFFSETFROM:-0600
TZOFFSETTO:-0600
TZNAME:CST
DTSTART:20220101T000000
END:STANDARD
END:VTIMEZONE
BEGIN:VEVENT
DTSTART;TZID=America/Regina:20230323T173000
DTEND;TZID=America/Regina:20230323T200000
DTSTAMP:20260422T204818
CREATED:20230307T154556Z
LAST-MODIFIED:20230307T154556Z
UID:10883-1679592600-1679601600@www.apegs.ca
SUMMARY:SES Engineering Month Networking―Industry Celebrating Excellence
DESCRIPTION:Join the Saskatoon Engineering Society for Industry Celebrating Excellence (ICE) at the Western Development Museum (WDM). \nYou will meet other engineers and see some of the industries representing our profession in the Saskatoon-Area. \nClick here for more information and to register.
URL:https://www.apegs.ca/event/ses-engineering-month-networking%e2%80%95industry-celebrating-excellence
LOCATION:Western Development Museum\, 2610 Lorne Avenue\, Saskatoon\, Saskatchewan\, S7J 0S6\, Canada
END:VEVENT
END:VCALENDAR