BEGIN:VCALENDAR
VERSION:2.0
PRODID:-//APEGS - ECPv6.15.20//NONSGML v1.0//EN
CALSCALE:GREGORIAN
METHOD:PUBLISH
X-WR-CALNAME:APEGS
X-ORIGINAL-URL:https://www.apegs.ca
X-WR-CALDESC:Events for APEGS
REFRESH-INTERVAL;VALUE=DURATION:PT1H
X-Robots-Tag:noindex
X-PUBLISHED-TTL:PT1H
BEGIN:VTIMEZONE
TZID:America/Regina
BEGIN:STANDARD
TZOFFSETFROM:-0600
TZOFFSETTO:-0600
TZNAME:CST
DTSTART:20220101T000000
END:STANDARD
END:VTIMEZONE
BEGIN:VEVENT
DTSTART;TZID=America/Regina:20230404T083000
DTEND;TZID=America/Regina:20230413T120000
DTSTAMP:20260422T204657
CREATED:20221122T221956Z
LAST-MODIFIED:20221122T221956Z
UID:10102-1680597000-1681387200@www.apegs.ca
SUMMARY:Water Security Agency – Introductory Qualified Persons Training Course
DESCRIPTION:Are you interested in working with agricultural producers to streamline the drainage approval process? \nThis course introduces participants to the basics of drainage\, the drainage works application\, and the approval process\, including the roles and responsibilities of the Water Security Agency\, the applicant(s)\, and the Qualified Person (QP). \nMultiple dates/locations available: \nVirtual \n\nApr 4\, 2023 – Apr 13\, 2023\n\nClick here for more information and to register for this course. \nDid you know that once you have completed the Introductory QP Training Course that you can take other supplemental QP training courses that the Water Security Agency has developed? To find out more please go to the QP Training Courses webpage.
URL:https://www.apegs.ca/event/water-security-agency-introductory-qualified-persons-training-course-5
LOCATION:Online
END:VEVENT
BEGIN:VEVENT
DTSTART;TZID=America/Regina:20230404T120000
DTEND;TZID=America/Regina:20230404T133000
DTSTAMP:20260422T204657
CREATED:20230323T145955Z
LAST-MODIFIED:20230323T145955Z
UID:11019-1680609600-1680615000@www.apegs.ca
SUMMARY:ACEC-SK Virtual Leadership Certificate Program 2023-2024
DESCRIPTION:ACEC-SK’s Virtual Leadership Certification Program is a annual program that focuses on improving the following skills;  People Management for Attraction and Retention\, Winning Work\, and Operations.  Employers have the option to send one person to the entire program or to pay for the entire program and send different people to each course. If you are only interested in one or two courses\, no problem\, pay full price for individual courses. \nClick here for more information and to register.
URL:https://www.apegs.ca/event/acec-sk-virtual-leadership-certificate-program-2023-2024
LOCATION:Online
END:VEVENT
END:VCALENDAR