BEGIN:VCALENDAR
VERSION:2.0
PRODID:-//APEGS - ECPv6.15.20//NONSGML v1.0//EN
CALSCALE:GREGORIAN
METHOD:PUBLISH
X-ORIGINAL-URL:https://www.apegs.ca
X-WR-CALDESC:Events for APEGS
REFRESH-INTERVAL;VALUE=DURATION:PT1H
X-Robots-Tag:noindex
X-PUBLISHED-TTL:PT1H
BEGIN:VTIMEZONE
TZID:America/Regina
BEGIN:STANDARD
TZOFFSETFROM:-0600
TZOFFSETTO:-0600
TZNAME:CST
DTSTART:20220101T000000
END:STANDARD
END:VTIMEZONE
BEGIN:VEVENT
DTSTART;TZID=America/Regina:20230502T080000
DTEND;TZID=America/Regina:20230503T170000
DTSTAMP:20260422T172221
CREATED:20221117T193450Z
LAST-MODIFIED:20230329T194857Z
UID:10035-1683014400-1683133200@www.apegs.ca
SUMMARY:Williston Basin Petroleum Conference
DESCRIPTION:This year\, the Williston Basin Petroleum Conference features the Saskatchewan Carbon Capture Utilization and Storage (CCUS) Summit. At a time when it has become clear that a major part of Canada’s GHG mitigation strategy is hinging on this important technology\, the conference will feature special sessions on CCUS. Saskatchewan has been a global CCUS leader since 2000 when the Weyburn and Midale fields were first flooded with CO2. In the time since\, Boundary Dam and the associated Aquistore CO2 Deep Saline Storage Project have become groundbreaking examples of CCUS in the real-world. Please join us for this summit which will feature presentations and panels from some of Canada’s leading researchers\, financiers\, regulators and companies working and investing in CCUS. \nClick here for more information.
URL:https://www.apegs.ca/event/williston-basin-petroleum-conference-2
LOCATION:Regina\, Regina\, Saskatchewan\, Canada
END:VEVENT
END:VCALENDAR