BEGIN:VCALENDAR
VERSION:2.0
PRODID:-//APEGS - ECPv6.15.20//NONSGML v1.0//EN
CALSCALE:GREGORIAN
METHOD:PUBLISH
X-WR-CALNAME:APEGS
X-ORIGINAL-URL:https://www.apegs.ca
X-WR-CALDESC:Events for APEGS
REFRESH-INTERVAL;VALUE=DURATION:PT1H
X-Robots-Tag:noindex
X-PUBLISHED-TTL:PT1H
BEGIN:VTIMEZONE
TZID:America/Regina
BEGIN:STANDARD
TZOFFSETFROM:-0600
TZOFFSETTO:-0600
TZNAME:CST
DTSTART:20220101T000000
END:STANDARD
END:VTIMEZONE
BEGIN:VEVENT
DTSTART;TZID=America/Regina:20230513T180000
DTEND;TZID=America/Regina:20230513T200000
DTSTAMP:20260422T172223
CREATED:20230426T204031Z
LAST-MODIFIED:20230426T204031Z
UID:11251-1684000800-1684008000@www.apegs.ca
SUMMARY:Saskatchewan Geological Society Bowling Night
DESCRIPTION:Golden Mile Bowling Lanes\nSaturday\, May 13\n6:00 PM – 8:00 PM \n$10 – student\n$15 – member\n$20 – non-member \n6 bowlers per team. \nIf you have any door prizes you would like to donate or would like to volunteer in any capacity for this fun event\, please email Nadene.Joy@gov.sk.ca along with your team name and bowlers names once you have officially registered. \nRegister here!
URL:https://www.apegs.ca/event/saskatchewan-geological-society-bowling-night
LOCATION:Golden Mile Bowling Lanes\, 3806 Albert St\, Regina\, Saskatchewan\, S4S 3R1\, Canada
END:VEVENT
END:VCALENDAR