BEGIN:VCALENDAR
VERSION:2.0
PRODID:-//APEGS - ECPv6.15.20//NONSGML v1.0//EN
CALSCALE:GREGORIAN
METHOD:PUBLISH
X-WR-CALNAME:APEGS
X-ORIGINAL-URL:https://www.apegs.ca
X-WR-CALDESC:Events for APEGS
REFRESH-INTERVAL;VALUE=DURATION:PT1H
X-Robots-Tag:noindex
X-PUBLISHED-TTL:PT1H
BEGIN:VTIMEZONE
TZID:America/Regina
BEGIN:STANDARD
TZOFFSETFROM:-0600
TZOFFSETTO:-0600
TZNAME:CST
DTSTART:20220101T000000
END:STANDARD
END:VTIMEZONE
BEGIN:VEVENT
DTSTART;TZID=America/Regina:20230516T080000
DTEND;TZID=America/Regina:20230519T120000
DTSTAMP:20260422T172224
CREATED:20230309T200851Z
LAST-MODIFIED:20230309T200851Z
UID:10922-1684224000-1684497600@www.apegs.ca
SUMMARY:Saskatchewan Research Council - Slurry Pipeline Systems Course
DESCRIPTION:Slurry pipeline transportation is a field that is not adequately covered in undergraduate engineering courses. Consequently\, engineers are generally ill-equipped when faced with the task of designing a slurry transportation system or troubleshooting an existing installation. \nThe course focuses on applying the basic principles of slurry pipeline flows to actual design situations. This course will provide an excellent opportunity for people involved in slurry transportation to meet in an informal environment\, to share experiences and to foster a uniform technical language and approach for slurry flow analysis. \nClick here for more information and to register.
URL:https://www.apegs.ca/event/saskatchewan-research-council-slurry-pipeline-systems-course
LOCATION:Innovation Place\, 15 Innovation Blvd\, Saskatoon\, Saskatchewan\, S7N 2X8\, Canada
END:VEVENT
BEGIN:VEVENT
DTSTART;TZID=America/Regina:20230516T130000
DTEND;TZID=America/Regina:20230516T143000
DTSTAMP:20260422T172224
CREATED:20230511T204128Z
LAST-MODIFIED:20230511T204128Z
UID:11393-1684242000-1684247400@www.apegs.ca
SUMMARY:University of Regina - Decarbonizing Transportation Seminar - Electric Vehicles: Challenges\, Strategies and Emission Mitigations
DESCRIPTION:The transportation sector accounts for around 25% of Canada’s greenhouse gas (GHG) emissions. Electric Vehicles (EV) and cleaner fuels are key to decarbonizing our communities and society. However\, the uneven and limited infrastructure is one major roadblock. Less than 6% of electric chargers are in the Prairie region which makes EVs problematic for long trips. Furthermore\, although Canada sets the mandatory target for passenger vehicles to be zero-emission by 2035\, charging queuing and cold weather are major concerns for urban EV trips. Such growing challenges are critical reasons that EVs still make up fewer than 5% of Canadian passenger vehicles. This seminar will address the growing challenges\, strategies and future vision of electric vehicle development towards sustainable\, inclusive and zero-emission transportation and society. \nAll are welcome and invited to attend! \nClick here for more information.
URL:https://www.apegs.ca/event/university-of-regina-decarbonizing-transportation-seminar-electric-vehicles-challenges-strategies-and-emission-mitigations
LOCATION:University of Regina\, 3737 Wascana Pkwy\, Regina\, SK\, S4S 0A2\, Canada
END:VEVENT
END:VCALENDAR