BEGIN:VCALENDAR
VERSION:2.0
PRODID:-//APEGS - ECPv6.15.20//NONSGML v1.0//EN
CALSCALE:GREGORIAN
METHOD:PUBLISH
X-ORIGINAL-URL:https://www.apegs.ca
X-WR-CALDESC:Events for APEGS
REFRESH-INTERVAL;VALUE=DURATION:PT1H
X-Robots-Tag:noindex
X-PUBLISHED-TTL:PT1H
BEGIN:VTIMEZONE
TZID:America/Regina
BEGIN:STANDARD
TZOFFSETFROM:-0600
TZOFFSETTO:-0600
TZNAME:CST
DTSTART:20220101T000000
END:STANDARD
END:VTIMEZONE
BEGIN:VEVENT
DTSTART;TZID=America/Regina:20230607T080000
DTEND;TZID=America/Regina:20230607T170000
DTSTAMP:20260422T152700
CREATED:20230511T205420Z
LAST-MODIFIED:20230511T205420Z
UID:11403-1686124800-1686157200@www.apegs.ca
SUMMARY:iPolytek – The Blockchain: Beyond Cryptocurrency – Online Course
DESCRIPTION:This introductory course on the blockchain provides a global understanding of how it works and how it could transform all aspects of society\, from how we design cities to how we manage our personal data. \nIn this introductory course on the blockchain\, you will: \n\nLearn about the technology behind the blockchain. How it works\, its origin\, and its evolution over time.\nDiscover how the blockchain can decentralize organizations\, economic institutions and governments\, transforming the organizational paradigm we have known since the dawn of the industrial age.\nUnderstand the principles behind token economies and how they enable the Internet of Value.\nDiscover examples of blockchain applications in the technology\, economic\, and environmental sectors. See also how it can enable social reform.\n\nTime: 4-hour self-paced course. Access this course online 24/7 for up to 2 years. \nLocation: Online – Register anytime and gain immediate access \nClick here for more information and to register.
URL:https://www.apegs.ca/event/ipolytek-the-blockchain-beyond-cryptocurrency-online-course
LOCATION:Online
END:VEVENT
END:VCALENDAR