BEGIN:VCALENDAR
VERSION:2.0
PRODID:-//APEGS - ECPv6.15.20//NONSGML v1.0//EN
CALSCALE:GREGORIAN
METHOD:PUBLISH
X-WR-CALNAME:APEGS
X-ORIGINAL-URL:https://www.apegs.ca
X-WR-CALDESC:Events for APEGS
REFRESH-INTERVAL;VALUE=DURATION:PT1H
X-Robots-Tag:noindex
X-PUBLISHED-TTL:PT1H
BEGIN:VTIMEZONE
TZID:America/Regina
BEGIN:STANDARD
TZOFFSETFROM:-0600
TZOFFSETTO:-0600
TZNAME:CST
DTSTART:20220101T000000
END:STANDARD
END:VTIMEZONE
BEGIN:VEVENT
DTSTART;TZID=America/Regina:20230613T073000
DTEND;TZID=America/Regina:20230613T090000
DTSTAMP:20260422T152631
CREATED:20230417T162721Z
LAST-MODIFIED:20230525T143957Z
UID:11185-1686641400-1686646800@www.apegs.ca
SUMMARY:RGI International - Get to the Point: A Practical Writing Course for Technical Professionals
DESCRIPTION:This interactive training introduces participants to the Pyramid Method of Writing(tm) and applies it to writing effective emails\, letters\, short and long reports\, and proposals. \nParticipants will receive personal feedback on three writing assignments. The format provides time to discuss and evaluate longer\, more technical documents such as recommendations\, investigations\, formal reports and studies\, and proposals. Individual and group exercises allow participants to practice the concepts and learn from each other. \nRGI International will deliver this course remotely in six 90-minute sessions on the following dates: \nTuesdays and Thursdays \n– June 13 and 15\n– June 20 and 22\n– June 27 and 29 \nFee: $1200 CND $900 US \nSeats are limited and registration ends on June 2. \nClick here to register.
URL:https://www.apegs.ca/event/rgi-international-get-to-the-point-a-practical-writing-course-for-technical-professionals
LOCATION:Online
END:VEVENT
END:VCALENDAR