BEGIN:VCALENDAR
VERSION:2.0
PRODID:-//APEGS - ECPv6.15.20//NONSGML v1.0//EN
CALSCALE:GREGORIAN
METHOD:PUBLISH
X-WR-CALNAME:APEGS
X-ORIGINAL-URL:https://www.apegs.ca
X-WR-CALDESC:Events for APEGS
REFRESH-INTERVAL;VALUE=DURATION:PT1H
X-Robots-Tag:noindex
X-PUBLISHED-TTL:PT1H
BEGIN:VTIMEZONE
TZID:America/Regina
BEGIN:STANDARD
TZOFFSETFROM:-0600
TZOFFSETTO:-0600
TZNAME:CST
DTSTART:20220101T000000
END:STANDARD
END:VTIMEZONE
BEGIN:VEVENT
DTSTART;TZID=America/Regina:20230915T080000
DTEND;TZID=America/Regina:20230920T170000
DTSTAMP:20260422T101003
CREATED:20230516T155627Z
LAST-MODIFIED:20230516T155627Z
UID:11443-1694764800-1695229200@www.apegs.ca
SUMMARY:Saskatchewan Geological Society Great Southwest Geological Field Trip
DESCRIPTION:This year the Saskatchewan Geological Society is planning a field trip to Southwest Saskatchewan. Dr. Meagan Gilbert will lead participants through the Tertiary Section of the rock record.  Meagan grew up in the area and is very familiar with the geology. Dr. Michelle Hanson will share her knowledge of the Glacial History of the area so this promises to be an exciting field trip. \nThe dates are September 15-20th\, 2023. Cost is $500 for SGS Members and $250 for Student SGS Members and includes transportation\, accommodations\, lunches and a guidebook. You can book directly by paying on the SGS website. Please book by July 1 in order to make logistics easier for the organizers.
URL:https://www.apegs.ca/event/saskatchewan-geological-society-great-southwest-geological-field-trip
LOCATION:Southwest Saskatchewan\, Saskatchewan\, Canada
END:VEVENT
BEGIN:VEVENT
DTSTART;TZID=America/Regina:20230920T130000
DTEND;TZID=America/Regina:20230921T163000
DTSTAMP:20260422T101003
CREATED:20230530T163426Z
LAST-MODIFIED:20230530T163426Z
UID:11511-1695214800-1695313800@www.apegs.ca
SUMMARY:Mental Health First Aid Standard (Virtual)
DESCRIPTION:Mental Health First Aid (MHFA) is a nationally recognized certification course developed by the Mental Health Commission of Canada.  The course aims to develop the skills of participants in providing help to a person experiencing a mental health and/or substance use problem or crisis. Just like physical first aid is provided until medical treatment can be obtained\, MHFA is given until appropriate support is found or until the crisis is resolved. \nThe virtual course is delivered in a blended learning format. \nSelf-Directed Learning \nTwo weeks prior to the course start date\, participants will receive log-in details for the Learning Management System. In the two weeks leading up to the facilitator led virtual classrooms\, participants must complete: \n\nModule One – self directed learning (2hrs)\nSelf directed reading of the participant reference guide ~150 pages (3hrs)\n\nFacilitator Led Virtual ZOOM Classrooms \n\nModule Two –  facilitator led session (3.5hrs) **3.25hrs plus break time** [1-430pm CST (SK Time)]\nModule Three – facilitator led session (3.5hrs) **3.25hrs plus break time**[1-430pm CST (SK Time)]\n\nTechnology considerations: Each participant is requited to have a device with audio and video capabilities for the ZOOM virtual classroom sessions. \nClick here for more information and to register.
URL:https://www.apegs.ca/event/mental-health-first-aid-standard-virtual
LOCATION:Online
END:VEVENT
END:VCALENDAR