BEGIN:VCALENDAR
VERSION:2.0
PRODID:-//APEGS - ECPv6.15.20//NONSGML v1.0//EN
CALSCALE:GREGORIAN
METHOD:PUBLISH
X-ORIGINAL-URL:https://www.apegs.ca
X-WR-CALDESC:Events for APEGS
REFRESH-INTERVAL;VALUE=DURATION:PT1H
X-Robots-Tag:noindex
X-PUBLISHED-TTL:PT1H
BEGIN:VTIMEZONE
TZID:America/Regina
BEGIN:STANDARD
TZOFFSETFROM:-0600
TZOFFSETTO:-0600
TZNAME:CST
DTSTART:20220101T000000
END:STANDARD
END:VTIMEZONE
BEGIN:VEVENT
DTSTART;VALUE=DATE:20230926
DTEND;VALUE=DATE:20230930
DTSTAMP:20260422T081123
CREATED:20230724T215114Z
LAST-MODIFIED:20230830T204537Z
UID:11754-1695686400-1696031999@www.apegs.ca
SUMMARY:23rd EOR TCP Conference
DESCRIPTION:The Enhanced Oil Recovery Technical Collaboration Program (EOR TCP) is hosting its annual meeting and conference in Calgary\, Alberta. \nThe EOR TCP brings together independent\, international groups of experts from around the world to lead research that seeks to improve the efficiency of recovery processes\, while reducing the emissions from those processes and lessening environmental impacts of production. \nClick here for more information.
URL:https://www.apegs.ca/event/23rd-eor-tcp-conference
LOCATION:Hotel Arts\, 119 12 Ave SW\, Calgary\, Alberta\, T2R 0G8\, Canada
END:VEVENT
BEGIN:VEVENT
DTSTART;VALUE=DATE:20230927
DTEND;VALUE=DATE:20230929
DTSTAMP:20260422T081123
CREATED:20230725T214329Z
LAST-MODIFIED:20230824T193048Z
UID:11774-1695772800-1695945599@www.apegs.ca
SUMMARY:ACEC-SK NBC/NEBC Building Code Workshop
DESCRIPTION:Event Format: Workshop \nLocation: Regina\, SK \nHosting Organization: ACEC-SK \nCourse Summary: \nThis ACEC-SK Building Code Workshop will review NBC/NEBC changes and much more. \nTopics to be covered: \n\nPart 2 Farm Buildings\nPart 3 Fire Protection\, Occupant Safety and Accessibility\nAlternations to Existing Buildings\nNECB Changes\nPart 4 & Part 9 Structural Changes\nAlternate Solutions\nPart 9 Changes (non-structural) including Energy Efficiency\nAccessibility in Application\n\nHow to Register: Click here for more information and to register. \nEvent Contact: ACEC-SK – Darlene Leamon-Delorme  306.550.2345 \nDisclaimer: The views expressed during this event are those of the hosting organization and do not necessarily represent the views of APEGS.
URL:https://www.apegs.ca/event/acec-sk-nbc-nebc-building-code-workshop
LOCATION:Ramada Plaza\, 1818 Victoria Ave\, Regina\, Saskatchewan\, S4P 0R1\, Canada
END:VEVENT
BEGIN:VEVENT
DTSTART;TZID=America/Regina:20230927T130000
DTEND;TZID=America/Regina:20230928T163000
DTSTAMP:20260422T081123
CREATED:20230530T163650Z
LAST-MODIFIED:20230530T163650Z
UID:11513-1695819600-1695918600@www.apegs.ca
SUMMARY:Mental Health First Aid Standard (Virtual)
DESCRIPTION:Mental Health First Aid (MHFA) is a nationally recognized certification course developed by the Mental Health Commission of Canada.  The course aims to develop the skills of participants in providing help to a person experiencing a mental health and/or substance use problem or crisis. Just like physical first aid is provided until medical treatment can be obtained\, MHFA is given until appropriate support is found or until the crisis is resolved. \nThe virtual course is delivered in a blended learning format. \nSelf-Directed Learning \nTwo weeks prior to the course start date\, participants will receive log-in details for the Learning Management System. In the two weeks leading up to the facilitator led virtual classrooms\, participants must complete: \n\nModule One – self directed learning (2hrs)\nSelf directed reading of the participant reference guide ~150 pages (3hrs)\n\nFacilitator Led Virtual ZOOM Classrooms \n\nModule Two –  facilitator led session (3.5hrs) **3.25hrs plus break time** [1-430pm CST (SK Time)]\nModule Three – facilitator led session (3.5hrs) **3.25hrs plus break time**[1-430pm CST (SK Time)]\n\nTechnology considerations: Each participant is requited to have a device with audio and video capabilities for the ZOOM virtual classroom sessions. \nClick here for more information and to register.
URL:https://www.apegs.ca/event/mental-health-first-aid-standard-virtual-2
LOCATION:Online
END:VEVENT
BEGIN:VEVENT
DTSTART;VALUE=DATE:20230928
DTEND;VALUE=DATE:20230929
DTSTAMP:20260422T081123
CREATED:20230802T202519Z
LAST-MODIFIED:20230802T202519Z
UID:11803-1695859200-1695945599@www.apegs.ca
SUMMARY:ConEx: The Builders Expo
DESCRIPTION:Event Format: Trade Show and Conference \nLocation: Saskatoon\, SK \nHosting Organization: Saskatchewan Construction Association (SCA) \nCourse Summary: ConEx will be the #1 place in 2023 for construction companies to find new work\, learn how to win that work\, and find the products and services that will give them a competitive edge. Saskatchewan’s first ever non-residential construction trade show and conference will feature over 100 exhibitors showcasing the newest and most innovative products and services. \nHow to Register: Click here for more information. \nEvent Contact: Ashley Elgersma\, SCA Director of Engagement – ashley@constructionsk.ca \nDisclaimer: The views expressed during this event are those of the hosting organization and do not necessarily represent the views of APEGS.
URL:https://www.apegs.ca/event/conex-the-builders-expo
LOCATION:World Trade Centre Saskatoon at Prairieland Park\, 503 Ruth St W\, Saskatoon\, Saskatchewan\, S7K 4E4\, Canada
END:VEVENT
END:VCALENDAR