BEGIN:VCALENDAR
VERSION:2.0
PRODID:-//APEGS - ECPv6.15.20//NONSGML v1.0//EN
CALSCALE:GREGORIAN
METHOD:PUBLISH
X-ORIGINAL-URL:https://www.apegs.ca
X-WR-CALDESC:Events for APEGS
REFRESH-INTERVAL;VALUE=DURATION:PT1H
X-Robots-Tag:noindex
X-PUBLISHED-TTL:PT1H
BEGIN:VTIMEZONE
TZID:America/Regina
BEGIN:STANDARD
TZOFFSETFROM:-0600
TZOFFSETTO:-0600
TZNAME:CST
DTSTART:20220101T000000
END:STANDARD
END:VTIMEZONE
BEGIN:VEVENT
DTSTART;TZID=America/Regina:20231019T070000
DTEND;TZID=America/Regina:20231019T170000
DTSTAMP:20260422T080320
CREATED:20230922T202031Z
LAST-MODIFIED:20230922T202147Z
UID:11998-1697698800-1697734800@www.apegs.ca
SUMMARY:Mechanical Systems Education Day in Saskatchewan
DESCRIPTION:Event Format: Symposium \nLocation: Saskatoon\, SK \nHosting Organization: Valerin Technologies \nEvent Summary: Valerin Technologies is happy to host Alfa Laval\, Spirax Sarco & Grundfos pumps for a day of fun\, facts and features. \nIncluded in the registration fee is an arrival gift\, your name entered for draws throughout the day\, breakfast bites\, snacks and lunch! \nEach company will have a chance for keynote speeches as well as smaller\, more intimate\, breakout sessions. \nIn these sessions you will find info for: \n\nEnergy Saving Technologies/Repeatable Solutions\nSystem Design & Troubleshooting\n\nHow to Register: Click here for more information and registration. \nEvent Contact: Valerin Technologies – jhittel@valerin.ca \nDisclaimer: The views expressed during this event are those of the hosting organization and do not necessarily represent the views of APEGS.
URL:https://www.apegs.ca/event/mechanical-systems-education-day-in-saskatchewan
LOCATION:Saskatoon Inn & Conference Centre\, 2002 Airport Drive\, Saskatoon\, Saskatchewan\, S7L 6M4\, Canada
END:VEVENT
END:VCALENDAR