BEGIN:VCALENDAR
VERSION:2.0
PRODID:-//APEGS - ECPv6.15.20//NONSGML v1.0//EN
CALSCALE:GREGORIAN
METHOD:PUBLISH
X-ORIGINAL-URL:https://www.apegs.ca
X-WR-CALDESC:Events for APEGS
REFRESH-INTERVAL;VALUE=DURATION:PT1H
X-Robots-Tag:noindex
X-PUBLISHED-TTL:PT1H
BEGIN:VTIMEZONE
TZID:America/Regina
BEGIN:STANDARD
TZOFFSETFROM:-0600
TZOFFSETTO:-0600
TZNAME:CST
DTSTART:20220101T000000
END:STANDARD
END:VTIMEZONE
BEGIN:VEVENT
DTSTART;TZID=America/Regina:20231020T080000
DTEND;TZID=America/Regina:20231020T170000
DTSTAMP:20260422T080203
CREATED:20230511T214323Z
LAST-MODIFIED:20230511T214323Z
UID:11423-1697788800-1697821200@www.apegs.ca
SUMMARY:iPolytek – Energy Efficiency: An Investment Opportunity – Online Course
DESCRIPTION:This online course provides engineers with an overview of the role of energy efficiency in limiting global warming\, and the techniques used to model energy consumption and estimate energy savings. A crash course in capital budgeting is also included. \nTime: 2-hour self-paced course. Access this course online 24/7 for up to 2 years. \nLocation: Online – Register anytime and gain immediate access \nClick here for more information and to register.
URL:https://www.apegs.ca/event/ipolytek-energy-efficiency-an-investment-opportunity-online-course-3
LOCATION:Online
END:VEVENT
END:VCALENDAR