BEGIN:VCALENDAR
VERSION:2.0
PRODID:-//APEGS - ECPv6.15.20//NONSGML v1.0//EN
CALSCALE:GREGORIAN
METHOD:PUBLISH
X-WR-CALNAME:APEGS
X-ORIGINAL-URL:https://www.apegs.ca
X-WR-CALDESC:Events for APEGS
REFRESH-INTERVAL;VALUE=DURATION:PT1H
X-Robots-Tag:noindex
X-PUBLISHED-TTL:PT1H
BEGIN:VTIMEZONE
TZID:America/Regina
BEGIN:STANDARD
TZOFFSETFROM:-0600
TZOFFSETTO:-0600
TZNAME:CST
DTSTART:20220101T000000
END:STANDARD
END:VTIMEZONE
BEGIN:VEVENT
DTSTART;TZID=America/Regina:20231029T080000
DTEND;TZID=America/Regina:20231101T170000
DTSTAMP:20260419T112548
CREATED:20230518T223350Z
LAST-MODIFIED:20230518T223532Z
UID:11466-1698566400-1698858000@www.apegs.ca
SUMMARY:Canadian Chemical Engineering Conference
DESCRIPTION:The Canadian Chemical Engineering Conference is the premier conference for chemical engineers. The mission of the Chemical Engineering Conference is to be your forum; a venue where you can embrace learning\, exchange knowledge\, build innovative ideas\, advance your career\, and advance the chemical engineering profession. \nTaking part in Canadian Chemical Engineering Conference is an opportunity to grow\, learn\, connect\, and celebrate all that Canadian chemical engineering has to offer. \nClick here for more information and to register.
URL:https://www.apegs.ca/event/canadian-chemical-engineering-conference
LOCATION:Calgary TELUS Convention Center\, 136 8 Ave SE\, Calgary\, AB\, T2G 0K6\, Canada
END:VEVENT
BEGIN:VEVENT
DTSTART;TZID=America/Regina:20231031T080000
DTEND;TZID=America/Regina:20231031T170000
DTSTAMP:20260419T112548
CREATED:20230511T215159Z
LAST-MODIFIED:20230511T215159Z
UID:11430-1698739200-1698771600@www.apegs.ca
SUMMARY:iPolytek – Innovation through Systems Thinking: A framework for formulating great ideas and implementing changes that work – Online Course
DESCRIPTION:In this course\, we study a formal approach to innovation based on systems thinking. This process involves taking a more holistic view of a problem and considering how all the system parts interact. The objective is to design and develop new or improved\, more efficient\, effective\, and sustainable systems. \nTime: 5-hour self-paced course. Access this course online 24/7 for up to 2 years. \nLocation: Online – Register anytime and gain immediate access \nClick here for more information and to register.
URL:https://www.apegs.ca/event/ipolytek-innovation-through-systems-thinking-a-framework-for-formulating-great-ideas-and-implementing-changes-that-work-online-course-3
LOCATION:Online
END:VEVENT
BEGIN:VEVENT
DTSTART;TZID=America/Regina:20231031T120000
DTEND;TZID=America/Regina:20231031T130000
DTSTAMP:20260419T112548
CREATED:20230613T172515Z
LAST-MODIFIED:20230613T172527Z
UID:11597-1698753600-1698757200@www.apegs.ca
SUMMARY:ACEC-SK Trust\, Your Competitive Advantage - Virtual Course
DESCRIPTION:Presenter: Scott Donald\nDate: October 31\, 2023\nTime: 12:00 PM -1:00 PM\nPrice: $149.00 \nTrust is the foundation of sales success. In high-trust relationships\, the customer sees the seller as an advisor. Buyers answer questions\, are forthright and share information freely—because they know the seller will use it to help them. Trust becomes a competitive advantage. This program will provide participants with a deeper appreciation of the value of trust as a competitive advantage. \nClick here for more information and to register.
URL:https://www.apegs.ca/event/acec-sk-trust-your-competitive-advantage-virtual-course
LOCATION:Online
END:VEVENT
BEGIN:VEVENT
DTSTART;TZID=America/Regina:20231031T120000
DTEND;TZID=America/Regina:20231031T130000
DTSTAMP:20260419T112548
CREATED:20230911T193440Z
LAST-MODIFIED:20230911T193440Z
UID:11944-1698753600-1698757200@www.apegs.ca
SUMMARY:Social Media and Loneliness: What Do We Need to Know?
DESCRIPTION:Event Format: Webinar \nHosting Organization: APEGA \nCourse Summary: We humans are hard-wired for social relationships with one another. This capacity to connect is beneficial in multiple ways\, including decreasing health risks and improving our physical well-being and longevity. Social media has increased our ability to connect with each other while also\, ironically\, leading to an increased sense of loneliness for some people. Research suggests that we may have a “sweet spot” in our social media use that allows us to experience a sense of connection while steering clear of the potential mindless scrolling that can lead to less connection. \nLearning objectives \n\nNormal versus excessive or problematic social media use\nFactors that lead to some people feeling lonelier when using social media\nBenefits and potential drawbacks of social media use\n\nHow to Register: Click here for more information and registration. \nEvent Contact: APEGA Professional Development Department – pd@apega.ca \nDisclaimer: The views expressed during this event are those of the hosting organization and do not necessarily represent the views of APEGS.
URL:https://www.apegs.ca/event/social-media-and-loneliness-what-do-we-need-to-know
LOCATION:Online
END:VEVENT
END:VCALENDAR