BEGIN:VCALENDAR
VERSION:2.0
PRODID:-//APEGS - ECPv6.15.20//NONSGML v1.0//EN
CALSCALE:GREGORIAN
METHOD:PUBLISH
X-ORIGINAL-URL:https://www.apegs.ca
X-WR-CALDESC:Events for APEGS
REFRESH-INTERVAL;VALUE=DURATION:PT1H
X-Robots-Tag:noindex
X-PUBLISHED-TTL:PT1H
BEGIN:VTIMEZONE
TZID:America/Regina
BEGIN:STANDARD
TZOFFSETFROM:-0600
TZOFFSETTO:-0600
TZNAME:CST
DTSTART:20220101T000000
END:STANDARD
END:VTIMEZONE
BEGIN:VEVENT
DTSTART;TZID=America/Regina:20231029T080000
DTEND;TZID=America/Regina:20231101T170000
DTSTAMP:20260419T112713
CREATED:20230518T223350Z
LAST-MODIFIED:20230518T223532Z
UID:11466-1698566400-1698858000@www.apegs.ca
SUMMARY:Canadian Chemical Engineering Conference
DESCRIPTION:The Canadian Chemical Engineering Conference is the premier conference for chemical engineers. The mission of the Chemical Engineering Conference is to be your forum; a venue where you can embrace learning\, exchange knowledge\, build innovative ideas\, advance your career\, and advance the chemical engineering profession. \nTaking part in Canadian Chemical Engineering Conference is an opportunity to grow\, learn\, connect\, and celebrate all that Canadian chemical engineering has to offer. \nClick here for more information and to register.
URL:https://www.apegs.ca/event/canadian-chemical-engineering-conference
LOCATION:Calgary TELUS Convention Center\, 136 8 Ave SE\, Calgary\, AB\, T2G 0K6\, Canada
END:VEVENT
BEGIN:VEVENT
DTSTART;TZID=America/Regina:20231101T110000
DTEND;TZID=America/Regina:20231101T150000
DTSTAMP:20260419T112713
CREATED:20231004T151959Z
LAST-MODIFIED:20231004T151959Z
UID:12027-1698836400-1698850800@www.apegs.ca
SUMMARY:The Future is Bright: Mentoring in a Technical Environment
DESCRIPTION:Event Format: Webinar \nHosting Organization: RGI International \nEvent Summary: Research shows that young technical professionals perform better and stay with companies longer when they participate in an effective mentoring program. \nA big part of your company’s success depends on succession planning\, and that begins with a formal mentoring program. \nThis four-hour online course prepares your middle-level and senior-level engineers to offer young mentors an exceptional mentoring experience. \nIn this highly interactive course\, you will learn these principles and practice these skills: \n\nWhat makes a mentoring program successful\nHow is a successful mentor/mentee relationship formed and sustained\nWhen is the best time to begin a mentoring program\nHow to determine who should be a mentor and who should be mentored\nHow to measure the success of your mentoring program\nHow you can sustain a mentoring program\nHow mentoring fits into successful succession planning\n\nWe will deliver this course remotely\, with a live instructor in a 4-hour block. We include two short breaks and individual and group. Participants receive a workbook. \nThis course is accredited by the Engineering Institute of Canada (EIC) and is eligible for 4 PDHs or 0.4 CEUs. \nFee: $325 US or approx $435 CND \nHow to Register: Click here for more information and registration. \nEvent Contact: RGI International \nDisclaimer: The views expressed during this event are those of the hosting organization and do not necessarily represent the views of APEGS.
URL:https://www.apegs.ca/event/the-future-is-bright-mentoring-in-a-technical-environment
LOCATION:Online
END:VEVENT
END:VCALENDAR