BEGIN:VCALENDAR
VERSION:2.0
PRODID:-//APEGS - ECPv6.15.20//NONSGML v1.0//EN
CALSCALE:GREGORIAN
METHOD:PUBLISH
X-ORIGINAL-URL:https://www.apegs.ca
X-WR-CALDESC:Events for APEGS
REFRESH-INTERVAL;VALUE=DURATION:PT1H
X-Robots-Tag:noindex
X-PUBLISHED-TTL:PT1H
BEGIN:VTIMEZONE
TZID:America/Regina
BEGIN:STANDARD
TZOFFSETFROM:-0600
TZOFFSETTO:-0600
TZNAME:CST
DTSTART:20220101T000000
END:STANDARD
END:VTIMEZONE
BEGIN:VEVENT
DTSTART;TZID=America/Regina:20231106T080000
DTEND;TZID=America/Regina:20231108T170000
DTSTAMP:20260419T112643
CREATED:20230705T180443Z
LAST-MODIFIED:20230705T180517Z
UID:11660-1699257600-1699462800@www.apegs.ca
SUMMARY:GoGeomatics Expo Calgary 2023
DESCRIPTION:The GoGeomatics Expo 2023 is being planned by GoGeomatics Canada in consultation with our industry\, academia\, association\, and media partners. This new expo is the first Geomatics Technology Exposition and is distinctive to the North American Geo sector. \nClick here for more information.
URL:https://www.apegs.ca/event/gogeomatics-expo-calgary-2023
LOCATION:Calgary\, Alberta\, Calgary\, Alberta\, Canada
END:VEVENT
BEGIN:VEVENT
DTSTART;TZID=America/Regina:20231108T130000
DTEND;TZID=America/Regina:20231109T163000
DTSTAMP:20260419T112643
CREATED:20230530T164151Z
LAST-MODIFIED:20230530T164151Z
UID:11519-1699448400-1699547400@www.apegs.ca
SUMMARY:Mental Health First Aid Standard (Virtual)
DESCRIPTION:Mental Health First Aid (MHFA) is a nationally recognized certification course developed by the Mental Health Commission of Canada.  The course aims to develop the skills of participants in providing help to a person experiencing a mental health and/or substance use problem or crisis. Just like physical first aid is provided until medical treatment can be obtained\, MHFA is given until appropriate support is found or until the crisis is resolved. \nThe virtual course is delivered in a blended learning format. \nSelf-Directed Learning \nTwo weeks prior to the course start date\, participants will receive log-in details for the Learning Management System. In the two weeks leading up to the facilitator led virtual classrooms\, participants must complete: \n\nModule One – self directed learning (2hrs)\nSelf directed reading of the participant reference guide ~150 pages (3hrs)\n\nFacilitator Led Virtual ZOOM Classrooms \n\nModule Two –  facilitator led session (3.5hrs) **3.25hrs plus break time** [1-430pm CST (SK Time)]\nModule Three – facilitator led session (3.5hrs) **3.25hrs plus break time**[1-430pm CST (SK Time)]\n\nTechnology considerations: Each participant is requited to have a device with audio and video capabilities for the ZOOM virtual classroom sessions. \nClick here for more information and to register.
URL:https://www.apegs.ca/event/mental-health-first-aid-standard-virtual-5
LOCATION:Online
END:VEVENT
END:VCALENDAR