BEGIN:VCALENDAR
VERSION:2.0
PRODID:-//APEGS - ECPv6.15.20//NONSGML v1.0//EN
CALSCALE:GREGORIAN
METHOD:PUBLISH
X-ORIGINAL-URL:https://www.apegs.ca
X-WR-CALDESC:Events for APEGS
REFRESH-INTERVAL;VALUE=DURATION:PT1H
X-Robots-Tag:noindex
X-PUBLISHED-TTL:PT1H
BEGIN:VTIMEZONE
TZID:America/Regina
BEGIN:STANDARD
TZOFFSETFROM:-0600
TZOFFSETTO:-0600
TZNAME:CST
DTSTART:20230101T000000
END:STANDARD
END:VTIMEZONE
BEGIN:VEVENT
DTSTART;TZID=America/Regina:20241212T120000
DTEND;TZID=America/Regina:20241212T130000
DTSTAMP:20260421T043123
CREATED:20241129T170824Z
LAST-MODIFIED:20241129T170824Z
UID:15062-1734004800-1734008400@www.apegs.ca
SUMMARY:Case Studies of Pile Quality Assessment using Pile Integrity Testing and Foundation Optimization using Dynamic Load Testing
DESCRIPTION:Date: December 12\, 2024 \nTime: 12:00 PM – 1:00 PM \nEvent Format: In-person Presentation \nHosting Organization: Saskatoon Geotechnical Group \nEvent Summary: Presented by Nicole Thiemann\, P.Eng.\, Geotechnical Engineer with Machibroda Engineering Ltd. \nHow to Register: Click here for more information and to register \nEvent Contact: Saskatoon Geotechnical Group – www.saskatoongeotech.com \nDisclaimer: The views expressed during this event are those of the hosting organization and do not necessarily represent the views of APEGS. \n 
URL:https://www.apegs.ca/event/case-studies-of-pile-quality-assessment-using-pile-integrity-testing-and-foundation-optimization-using-dynamic-load-testing-2
END:VEVENT
BEGIN:VEVENT
DTSTART;TZID=America/Regina:20241212T190000
DTEND;TZID=America/Regina:20241212T200000
DTSTAMP:20260421T043123
CREATED:20241203T193636Z
LAST-MODIFIED:20241203T193636Z
UID:15078-1734030000-1734033600@www.apegs.ca
SUMMARY:Speaking of Diversity in Engineering
DESCRIPTION:Date: December 12\, 2024 \nTime: 7:00 PM – 8:00 PM \nEvent Format: Lecture \nLocation: Online \nHosting Organization: Saskatoon Engineering Society \nEvent Summary: Historically\, engineering and control systems have had a rather homogeneous set of participation\, which is caused by a variety of factors ranging from bias to long held social norms and company and government policies which do not to support broader participation in the workforce. Additionally\, when achievements are experienced by more diverse members\, they are often overlooked or diminished which contribute to high dropout rates. By failing to improve inclusion\, the damages and lost opportunities lie not just with those who are not included\, but with the industry as a whole. A more diverse cast offers a wider array of experiences and knowledge known to lead to better solutions. To improve this\, broad changes are necessary from how we view and support less traditional candidates to how employers and governments support workers and families. \nHow to Register: Click here for more information and to register \nEvent Contact: Saskatoon Engineering Society – info@saskatoonengineers.com \nDisclaimer: The views expressed during this event are those of the hosting organization and do not necessarily represent the views of APEGS.
URL:https://www.apegs.ca/event/speaking-of-diversity-in-engineering
END:VEVENT
END:VCALENDAR