BEGIN:VCALENDAR
VERSION:2.0
PRODID:-//APEGS - ECPv6.15.20//NONSGML v1.0//EN
CALSCALE:GREGORIAN
METHOD:PUBLISH
X-WR-CALNAME:APEGS
X-ORIGINAL-URL:https://www.apegs.ca
X-WR-CALDESC:Events for APEGS
REFRESH-INTERVAL;VALUE=DURATION:PT1H
X-Robots-Tag:noindex
X-PUBLISHED-TTL:PT1H
BEGIN:VTIMEZONE
TZID:America/Regina
BEGIN:STANDARD
TZOFFSETFROM:-0600
TZOFFSETTO:-0600
TZNAME:CST
DTSTART:20210101T000000
END:STANDARD
END:VTIMEZONE
BEGIN:VEVENT
DTSTART;TZID=America/Regina:20220909T130000
DTEND;TZID=America/Regina:20220909T200000
DTSTAMP:20260423T042842
CREATED:20220712T195535Z
LAST-MODIFIED:20220712T195535Z
UID:9052-1662728400-1662753600@www.apegs.ca
SUMMARY:Saskatchewan Geological Society Annual Golf Tournament and BBQ
DESCRIPTION:Tee-off times for the Texas Scramble begin at 1:00 pm\, at the Green Acres Golf Course 100 South\, Ladysmith Rd\, Balgonie\, SK S0G 0E0. \nThe BBQ will commence around 5:00 pm at Cliveti-Hazen residence at 9 Ridgedale Bay\, White City. Food will be served around 6:00 pm. \nPlease click the below document for more information. \n2022 SGS Golf notice \n 
URL:https://www.apegs.ca/event/saskatchewan-geological-society-annual-golf-tournament-and-bbq
LOCATION:Green Acres Golf Course\, 100 South Ladysmith Rd\, Balgonie\, Saskatchewan\, S0G 0E0\, Canada
END:VEVENT
BEGIN:VEVENT
DTSTART;TZID=America/Regina:20220909T130000
DTEND;TZID=America/Regina:20220909T210000
DTSTAMP:20260423T042842
CREATED:20220811T151251Z
LAST-MODIFIED:20220811T151513Z
UID:9288-1662728400-1662757200@www.apegs.ca
SUMMARY:Moose Jaw Engineering Society Annual Golf Tournament
DESCRIPTION:Date\nFriday\, September 9\, 2022 – Tee-off @ 1:00 pm \nLocation\nHillcrest Golf Club\, 1599 Main St North\nThe Crushed Can Sports Bar\, 82 Manitoba St West\nMoose Jaw\, SK \nFormat\n4-Person 18 Hole Texas Scramble\nSpouses / Companions Welcome \nCost\n$20 (Members) / $40 (Non-members)\n(Includes Green Fee\, Powered Golf Cart\, Steak Supper)\nNote: For each member\, one non-member entered at member prices \nSupper Only\n$10 (Members and Non-members)\n6:00 pm at The Crushed Can Sports Bar\nDietary restrictions can be accommodated upon request before the event. \nDeadline to Register\nTuesday\, September 6\, 2022 \nContact\nDaryl Bunnell\nPhone: 306-690-5242\nEmail: daryl.bunnell@saskwater.com
URL:https://www.apegs.ca/event/moose-jaw-engineering-society-annual-golf-tournament
LOCATION:Hillcrest Golf Club\, 1599 Main St North\, Moose Jaw\, Saskatchewan\, S6J 1L5\, Canada
END:VEVENT
BEGIN:VEVENT
DTSTART;TZID=America/Regina:20220910T110000
DTEND;TZID=America/Regina:20220910T153000
DTSTAMP:20260423T042842
CREATED:20220810T202406Z
LAST-MODIFIED:20220810T202457Z
UID:9274-1662807600-1662823800@www.apegs.ca
SUMMARY:LEED Green Associate Training
DESCRIPTION:LEED (Leadership in Energy and Environmental Design) is simply a sustainability scorecard for green buildings. The LEED Green Associate is the only professional designation to show employers and clients you have certified knowledge in the field. \nTo date\, this course and its materials have proven to be instrumental in helping over 8000 students pass their respective exams at a 99% pass rate. This course is offered at a quarter of the price and time as the competition and is geared at allowing students to graduate with letters after their name! This course is instructed by a USGBC Faculty member and is the most effective way to pass. \nClick here for more information and registration. \n 
URL:https://www.apegs.ca/event/leed-green-associate-training
LOCATION:Online event
END:VEVENT
BEGIN:VEVENT
DTSTART;TZID=America/Regina:20220913T130000
DTEND;TZID=America/Regina:20220913T140000
DTSTAMP:20260423T042842
CREATED:20220609T151555Z
LAST-MODIFIED:20220609T151632Z
UID:8698-1663074000-1663077600@www.apegs.ca
SUMMARY:ACEC-SK Leadership Certification Program – Course Four
DESCRIPTION:Course Four Details \nBusiness Development: Foundational Top 10 Sales Skills for Engineers\nPresenter: Scott Donald\nDate: September 13\, 2022\nTime: 1:00 – 2:00 pm\nPrice: $145.00 \nMany organizations overlook the importance of foundational sales skills and following a basic sales process. In this webinar\, we will share with participants the not-so-secret skill everyone should know and practice to help to grow your business: helping your clients. \nLearning objectives \n\nLearn foundational selling and business development skills\nHear about what business development professionals should be doing\, but often don’t\nHow to make the most of your valuable (selling) time\n\nClick here for course details and registration.
URL:https://www.apegs.ca/event/acec-sk-leadership-certification-program-course-four
LOCATION:Online event
END:VEVENT
BEGIN:VEVENT
DTSTART;TZID=America/Regina:20220915T110000
DTEND;TZID=America/Regina:20220915T120000
DTSTAMP:20260423T042842
CREATED:20220824T175850Z
LAST-MODIFIED:20220824T175850Z
UID:9363-1663239600-1663243200@www.apegs.ca
SUMMARY:CCDC Document Webinar
DESCRIPTION:In October\, CCDC launched CCDC Document Webinars\, an exciting new initiative aimed at providing information and guidance about the content and use of our standard construction documents. We have heard your questions and are ready to provide simple yet comprehensive answers! These author-led sessions are designed to explain the underlying principles behind CCDC documents and teach you their correct application and use. Documents are available for purchase from our document outlets. \nLearning how to properly understand and use specification documents is a valuable skill to master. To help with this\, authors will explain how to use the CCDC Master Specification for Division 00 ‘Procurement and Contracting Requirements’. This is a new type of CCDC publication and is part of a longer-term effort to introduce more specification documents. Organized according to MasterFormat\, Division 00 offers model wording and explanatory specification notes on front-end documents. This includes advertisements\, letters of invitations to bid\, instructions to bidders\, bid forms and supplements\, notice of awards\, letter to unsuccessful bidders\, and more. \nThis webinar will teach viewers how specifications can be effectively used in the procurement process. Grow your knowledge so you can feel competent in your day-to-day work. \nRegistration: \nEnglish Division 00 webinar: Thursday\, September 15\nFrench Division 00 webinar: Thursday\, September 29 \nLength: 60 Minutes \nStart time: The webinar will start at 1:00 p.m. (ET) \nPrice: $65 + tax \nSubscribe to CCDC updates to stay informed on when we will be holding more in the future!
URL:https://www.apegs.ca/event/ccdc-document-webinar
LOCATION:Online event
END:VEVENT
BEGIN:VEVENT
DTSTART;TZID=America/Regina:20220919T130000
DTEND;TZID=America/Regina:20220919T140000
DTSTAMP:20260423T042842
CREATED:20220912T151240Z
LAST-MODIFIED:20220912T151322Z
UID:9466-1663592400-1663596000@www.apegs.ca
SUMMARY:HDPE Case Studies and Lessons Learned
DESCRIPTION:The third in a series of HDPE webinars sponsored by the Alliance for PE Pipe. This session covers actual case studies for the top installation methods of HDPE. It is a very thorough session intended for the municipal owner and civil engineer with some HDPE experience. Field videos\, case studies and lots of photographs will illustrate numerous successful installations with HDPE. Small diameter through large diameter pipe will be included as well as installation above ground. \nModerator: Peter Dyke\, Exec Director\, PE Alliance \nSpeakers: Alan Ambler\, PE\, AM Trenchless & Rusty Reeves\, Core & Main \nClick here for more information and registration.
URL:https://www.apegs.ca/event/hdpe-case-studies-and-lessons-learned
LOCATION:Online event
END:VEVENT
BEGIN:VEVENT
DTSTART;TZID=America/Regina:20220920T080000
DTEND;TZID=America/Regina:20220922T170000
DTSTAMP:20260423T042842
CREATED:20220825T220231Z
LAST-MODIFIED:20220825T220527Z
UID:9373-1663660800-1663866000@www.apegs.ca
SUMMARY:Carbon Capture Canada
DESCRIPTION:Carbon Capture Canada is the only Pan Canadian national convention showcasing Canada’s incredible and almost untapped opportunity for carbon capture and underground storage innovation technology and destination for global investment. \nClick here for more information. \n 
URL:https://www.apegs.ca/event/carbon-capture-canada
LOCATION:Edmonton Convention Centre\, 9797 Jasper Ave\, Edmonton\, Alberta\, T5J 1N9\, Canada
END:VEVENT
BEGIN:VEVENT
DTSTART;TZID=America/Regina:20220920T120000
DTEND;TZID=America/Regina:20220920T133000
DTSTAMP:20260423T042842
CREATED:20220912T151532Z
LAST-MODIFIED:20220912T151532Z
UID:9468-1663675200-1663680600@www.apegs.ca
SUMMARY:Pipe Bursting Method Explored
DESCRIPTION:This session covers pipe bursting with HDPE pipe in depth. Features\, benefits\, applications\, lessons learned and practical tips of how and why to use this explosive method. Specifically\, you will learn about: \n\nTrenchless design\nStatic pipe bursting\nPneumatic pipe bursting\nWhy it is so much less expensive\nWhy HDPE is so well suited for trenchless\nBursting of Ductile iron\, PVC\, Cast\, concrete\nSoil types\nTools\nCases\n\nClick here for more information and registration.
URL:https://www.apegs.ca/event/pipe-bursting-method-explored
LOCATION:Online event
END:VEVENT
BEGIN:VEVENT
DTSTART;TZID=America/Regina:20220921T080000
DTEND;TZID=America/Regina:20220921T170000
DTSTAMP:20260423T042842
CREATED:20220831T202544Z
LAST-MODIFIED:20220831T202544Z
UID:9386-1663747200-1663779600@www.apegs.ca
SUMMARY:Aboriginal Consultation and Negotiating a Consultation Agreement workshop
DESCRIPTION:Is your organization having challenges making inroads with Aboriginal people and Aboriginal Organizations. Are you an Aboriginal group who wants to better engage with Industry? \nIf you want to better consult with Aboriginal People/Industry or you are in a position that requires that you engage Aboriginal People/Industry (I.E. Stakeholder Relations\, Consultation Department\, Community Relations\, Chief and Council\, Surface Land\, Aboriginal Relations) and have asked questions\, then this two-day workshop is for you.  \nThis two-day workshop is designed to provide practical solutions: \n\nsolutions that are based on the combined expertise of a First Nation law graduate who has worked for both Industry and Aboriginal groups for over 25 years and\na First Nation Consultant who has been in business since 1996 and has worked specifically in the area of Aboriginal Consultation since 2010\n\nTwo-day workshop – September 21 (day 1) and October 19 (day 2). \nClick here for more information and registration.
URL:https://www.apegs.ca/event/aboriginal-consultation-and-negotiating-a-consultation-agreement-workshop-2
LOCATION:Online event
END:VEVENT
BEGIN:VEVENT
DTSTART;TZID=America/Regina:20220926T110000
DTEND;TZID=America/Regina:20220926T120000
DTSTAMP:20260423T042842
CREATED:20220922T220226Z
LAST-MODIFIED:20220922T220226Z
UID:9534-1664190000-1664193600@www.apegs.ca
SUMMARY:Honouring our learning path towards Truth & Reconciliation
DESCRIPTION:Ahead of the National Day for Truth & Reconciliation\, join Reconciliation Education in an important conversation with Dene Elder & Survivor Margaret Reynolds (Saskatchewan) with celebrated Anishnaabe film actor\, hip hop artist and activist for reconciliation\, Samian (Québec). Both\, featured in the online course\, 4 Seasons of Reconciliation. \nClick here for more information and registration.
URL:https://www.apegs.ca/event/honouring-our-learning-path-towards-truth-reconciliation
LOCATION:Online event
END:VEVENT
BEGIN:VEVENT
DTSTART;TZID=America/Regina:20220930T081500
DTEND;TZID=America/Regina:20220930T131500
DTSTAMP:20260423T042842
CREATED:20220906T151935Z
LAST-MODIFIED:20220919T152046Z
UID:9414-1664525700-1664543700@www.apegs.ca
SUMMARY:Enhancing Chances of Bidder Success
DESCRIPTION:Learn all the tips and tricks to help you win more work from organizations that utilize Best Value procurement. \nPresented by – Harlan Kennedy\, P.Eng.\, PMP \nThree panelists from organizations that utilize Best Value procurement will join to answer questions and share what they look for when evaluating bids and proposals. \nPanelists: \n\nTammy Moyse\, City of Regina\nGlenn Deck\, SaskBuilds\nRhea Brown\, SaskPower\n\nClick here for registration. \nClick here for the course description.
URL:https://www.apegs.ca/event/enhancing-changes-of-bidder-success
LOCATION:The Atlas Hotel\, Regina\, 4177 Albert St\, Regina\, Saskatchewan\, S4S 3R6\, Canada
END:VEVENT
END:VCALENDAR