BEGIN:VCALENDAR
VERSION:2.0
PRODID:-//APEGS - ECPv6.15.20//NONSGML v1.0//EN
CALSCALE:GREGORIAN
METHOD:PUBLISH
X-WR-CALNAME:APEGS
X-ORIGINAL-URL:https://www.apegs.ca
X-WR-CALDESC:Events for APEGS
REFRESH-INTERVAL;VALUE=DURATION:PT1H
X-Robots-Tag:noindex
X-PUBLISHED-TTL:PT1H
BEGIN:VTIMEZONE
TZID:America/Regina
BEGIN:STANDARD
TZOFFSETFROM:-0600
TZOFFSETTO:-0600
TZNAME:CST
DTSTART:20210101T000000
END:STANDARD
END:VTIMEZONE
BEGIN:VEVENT
DTSTART;TZID=America/Regina:20221129T083000
DTEND;TZID=America/Regina:20221213T120000
DTSTAMP:20260423T013622
CREATED:20221122T221530Z
LAST-MODIFIED:20221122T221530Z
UID:10091-1669710600-1670932800@www.apegs.ca
SUMMARY:Water Security Agency - Introductory Qualified Persons Training Course
DESCRIPTION:Are you interested in working with agricultural producers to streamline the drainage approval process? \nThis course introduces participants to the basics of drainage\, the drainage works application\, and the approval process\, including the roles and responsibilities of the Water Security Agency\, the applicant(s)\, and the Qualified Person (QP). \nMultiple dates/locations available: \nVirtual \n\nNov 29\, 2022 – Dec 13\, 2022\nJan 10\, 2023 – Jan 19\, 2023\nFeb 7\, 2023 – Feb 16\, 2023\nMar 7\, 2023 – Mar 16\, 2023\nApr 4\, 2023 – Apr 13\, 2023\n\nClick here for more information and to register for this course. \nDid you know that once you have completed the Introductory QP Training Course that you can take other supplemental QP training courses that the Water Security Agency has developed? To find out more please go to the QP Training Courses webpage.
URL:https://www.apegs.ca/event/water-security-agency-introductory-qualified-persons-training-course
LOCATION:Online
END:VEVENT
BEGIN:VEVENT
DTSTART;TZID=America/Regina:20221201T083000
DTEND;TZID=America/Regina:20221201T163000
DTSTAMP:20260423T013622
CREATED:20221013T222243Z
LAST-MODIFIED:20221013T222243Z
UID:9761-1669883400-1669912200@www.apegs.ca
SUMMARY:Procurement Readiness Forum for Indigenous Businesses
DESCRIPTION:Learn about public procurement processes with presentations from provincial\, federal and municipal governments and Crown corporations. \nClick here for more information and registration.
URL:https://www.apegs.ca/event/procurement-readiness-forum-for-indigenous-businesses
LOCATION:Dakota Dunes Resort\, 203 Dakota Dunes Way\, Whitecap\, Saskatchewan\, S7K 2L2\, Canada
END:VEVENT
BEGIN:VEVENT
DTSTART;TZID=America/Regina:20221201T150000
DTEND;TZID=America/Regina:20221201T193000
DTSTAMP:20260423T013622
CREATED:20220810T204517Z
LAST-MODIFIED:20220810T204517Z
UID:9284-1669906800-1669923000@www.apegs.ca
SUMMARY:LEED Green Associate Training
DESCRIPTION:LEED (Leadership in Energy and Environmental Design) is simply a sustainability scorecard for green buildings. The LEED Green Associate is the only professional designation to show employers and clients you have certified knowledge in the field. \nTo date\, this course and its materials have proven to be instrumental in helping over 8000 students pass their respective exams at a 99% pass rate. This course is offered at a quarter of the price and time as the competition and is geared at allowing students to graduate with letters after their name! This course is instructed by a USGBC Faculty member and is the most effective way to pass. \nClick here for more information and registration.
URL:https://www.apegs.ca/event/leed-green-associate-training-5
LOCATION:Online event
END:VEVENT
BEGIN:VEVENT
DTSTART;TZID=America/Regina:20221205T183000
DTEND;TZID=America/Regina:20221205T210000
DTSTAMP:20260423T013622
CREATED:20221121T155559Z
LAST-MODIFIED:20221121T160107Z
UID:10044-1670265000-1670274000@www.apegs.ca
SUMMARY:ACEC-SK Future Leaders Network Saskatoon Winter Social Wing Night
DESCRIPTION:ACEC-SK Future Leaders network is hosting a winter social wing night to give an opportunity for young professionals in the industry an opportunity to reconnect and network. We are adding a charitable touch to the event by asking attendees to bring non-perishable food items that will be donated to the Saskatoon Food Bank on behalf of ACEC-SK’s Future Leaders network. Attendees bringing a donation will have one order of wings covered! Register by November 28th. \nOpen to all Young Professionals (Future Leaders) in consulting engineering\, and colleagues from the industry (clients\, contractors\, agencies\, etc.) \nClick here to register.
URL:https://www.apegs.ca/event/acec-sk-future-leaders-network-saskatoon-winter-social-wing-night
LOCATION:Fox & Hounds Pub\, 20-7 Assiniboine Dr.\, Saskatoon\, Saskatchewan\, S7K 1H1\, Canada
END:VEVENT
BEGIN:VEVENT
DTSTART;TZID=America/Regina:20221206T120000
DTEND;TZID=America/Regina:20221206T130000
DTSTAMP:20260423T013622
CREATED:20221130T194828Z
LAST-MODIFIED:20221130T194828Z
UID:10146-1670328000-1670331600@www.apegs.ca
SUMMARY:Organizational Change Management - Why do I keep hearing these words and why should I listen?
DESCRIPTION:We manage change in projects and operations but how are we managing people through change? Can we manage people through change? Yes! \nPeople make change; without people we wouldn’t have change. People are complex and change is difficult – we can’t force people through change and/or hope they muddle through and expect fulsome successes and positive experiences. \nOCM offers proactive\, flexible\, structured processes with tools and techniques to help people move through change successfully and can be used in any industry and for any business\, regardless of size. Yes\, you likely are managing change already; OCM offers a more fulsome approach to boost your past and current successes. Join Amanda in learning more about OCM and how it can benefit you and the people around you. \nClick here for more information and to register.
URL:https://www.apegs.ca/event/organizational-change-management-why-do-i-keep-hearing-these-words-and-why-should-i-listen
LOCATION:Online
END:VEVENT
BEGIN:VEVENT
DTSTART;TZID=America/Regina:20221215T120000
DTEND;TZID=America/Regina:20221215T140000
DTSTAMP:20260423T013622
CREATED:20221130T145919Z
LAST-MODIFIED:20221130T150133Z
UID:10140-1671105600-1671112800@www.apegs.ca
SUMMARY:Indigenous Inclusion Thought Leadership Series
DESCRIPTION:Cultural Capabilities and your Role as a Manager \nManagers who have committed to expanding their cultural capabilities are able to provide their employees with a physical and psychologically safe work environment. Learn how to expand your knowledge know-how into the four categories that make up your cultural capabilities: cultural competency\, cultural awareness\, cultural safety\, and cultural humility. As a culturally capable manager you will be a key enabler to achieving inclusion in your workplace. \nObjectives: \n\nUnderstanding the importance of cultural capabilities\nExplore the four categories of cultural capabilities\nPromising practices to expand your own capabilities\n\nClick here to register.
URL:https://www.apegs.ca/event/indigenous-inclusion-thought-leadership-series
LOCATION:Online
END:VEVENT
BEGIN:VEVENT
DTSTART;TZID=America/Regina:20221217T110000
DTEND;TZID=America/Regina:20221217T153000
DTSTAMP:20260423T013622
CREATED:20220810T204614Z
LAST-MODIFIED:20220810T204614Z
UID:9286-1671274800-1671291000@www.apegs.ca
SUMMARY:LEED Green Associate Training
DESCRIPTION:LEED (Leadership in Energy and Environmental Design) is simply a sustainability scorecard for green buildings. The LEED Green Associate is the only professional designation to show employers and clients you have certified knowledge in the field. \nTo date\, this course and its materials have proven to be instrumental in helping over 8000 students pass their respective exams at a 99% pass rate. This course is offered at a quarter of the price and time as the competition and is geared at allowing students to graduate with letters after their name! This course is instructed by a USGBC Faculty member and is the most effective way to pass. \nClick here for more information and registration.
URL:https://www.apegs.ca/event/leed-green-associate-training-6
LOCATION:Online event
END:VEVENT
BEGIN:VEVENT
DTSTART;TZID=America/Regina:20221221T120000
DTEND;TZID=America/Regina:20221221T130000
DTSTAMP:20260423T013622
CREATED:20221130T195116Z
LAST-MODIFIED:20221208T212138Z
UID:10148-1671624000-1671627600@www.apegs.ca
SUMMARY:RES Ethics Workshop 4
DESCRIPTION:APEGS creates monthly ethical scenarios to facilitate discussion between its members. The Regina Engineering Society will provide its members with an opportunity to take a look at and discuss the last three scenarios from 2022. \nIn the workshop the participants will be divided into three groups to take a deeper dive into one scenario each then brought back together to learn about each group’s discussion. \nThe scenarios will be sent out to all registrants the morning of the workshop. \nPlease email any questions to regina.engineering.society@gmail.com. \nClick here to register.
URL:https://www.apegs.ca/event/apegs-ethics-workshop-4
LOCATION:Online
END:VEVENT
END:VCALENDAR