BEGIN:VCALENDAR
VERSION:2.0
PRODID:-//APEGS - ECPv6.15.20//NONSGML v1.0//EN
CALSCALE:GREGORIAN
METHOD:PUBLISH
X-WR-CALNAME:APEGS
X-ORIGINAL-URL:https://www.apegs.ca
X-WR-CALDESC:Events for APEGS
REFRESH-INTERVAL;VALUE=DURATION:PT1H
X-Robots-Tag:noindex
X-PUBLISHED-TTL:PT1H
BEGIN:VTIMEZONE
TZID:America/Regina
BEGIN:STANDARD
TZOFFSETFROM:-0600
TZOFFSETTO:-0600
TZNAME:CST
DTSTART:20220101T000000
END:STANDARD
END:VTIMEZONE
BEGIN:VEVENT
DTSTART;TZID=America/Regina:20230602T090000
DTEND;TZID=America/Regina:20230602T133000
DTSTAMP:20260422T133754
CREATED:20230426T204348Z
LAST-MODIFIED:20230426T204348Z
UID:11254-1685696400-1685712600@www.apegs.ca
SUMMARY:ACEC-SK - Bev MacLeod's Retirement and ACEC-SK AGM
DESCRIPTION:After 14 years as Executive Director\, Bev MacLeod will be retiring from ACEC-SK on June 2\, 2023. Come celebrate Bev’s accomplishments at her final AGM. \nRegister by May 29\, 2023. \n 
URL:https://www.apegs.ca/event/acec-sk-bev-macleods-retirement-and-acec-sk-agm
LOCATION:Harbor Golf Club & Resort\, Elbow\, SK\, Canada
END:VEVENT
BEGIN:VEVENT
DTSTART;TZID=America/Regina:20230602T110000
DTEND;TZID=America/Regina:20230602T200000
DTSTAMP:20260422T133754
CREATED:20230511T195022Z
LAST-MODIFIED:20230511T195022Z
UID:11391-1685703600-1685736000@www.apegs.ca
SUMMARY:ACEC-SK Annual Golf Tournament
DESCRIPTION:Friday\, June 2\, 2023\nHarbor Golf Club & Resort\nElbow\, Saskatchewan \nRegister Now  \nGolf Registration Deadline – Friday\, May 19\, 2023
URL:https://www.apegs.ca/event/acec-sk-annual-golf-tournament-2
LOCATION:Harbor Golf Club & Resort\, Elbow\, SK\, Canada
END:VEVENT
BEGIN:VEVENT
DTSTART;TZID=America/Regina:20230603T110000
DTEND;TZID=America/Regina:20230603T153000
DTSTAMP:20260422T133754
CREATED:20230518T200810Z
LAST-MODIFIED:20230518T200810Z
UID:11460-1685790000-1685806200@www.apegs.ca
SUMMARY:LEED Green Associate Training
DESCRIPTION:LEED (Leadership in Energy and Environmental Design) is simply a sustainability scorecard for green buildings. The LEED Green Associate is the only professional designation to show employers and clients you have certified knowledge in the field. \nTo date\, this course and its materials have proven to be instrumental in helping over 8000 students pass their respective exams at a 99% pass rate. This course is offered at a quarter of the price and time as the competition and is geared at allowing students to graduate with letters after their name! This course is instructed by a USGBC Faculty member and is the most effective way to pass. \nClick here for more information and registration.
URL:https://www.apegs.ca/event/leed-green-associate-training-11
LOCATION:Online
END:VEVENT
BEGIN:VEVENT
DTSTART;TZID=America/Regina:20230607T080000
DTEND;TZID=America/Regina:20230607T170000
DTSTAMP:20260422T133754
CREATED:20230511T205420Z
LAST-MODIFIED:20230511T205420Z
UID:11403-1686124800-1686157200@www.apegs.ca
SUMMARY:iPolytek – The Blockchain: Beyond Cryptocurrency – Online Course
DESCRIPTION:This introductory course on the blockchain provides a global understanding of how it works and how it could transform all aspects of society\, from how we design cities to how we manage our personal data. \nIn this introductory course on the blockchain\, you will: \n\nLearn about the technology behind the blockchain. How it works\, its origin\, and its evolution over time.\nDiscover how the blockchain can decentralize organizations\, economic institutions and governments\, transforming the organizational paradigm we have known since the dawn of the industrial age.\nUnderstand the principles behind token economies and how they enable the Internet of Value.\nDiscover examples of blockchain applications in the technology\, economic\, and environmental sectors. See also how it can enable social reform.\n\nTime: 4-hour self-paced course. Access this course online 24/7 for up to 2 years. \nLocation: Online – Register anytime and gain immediate access \nClick here for more information and to register.
URL:https://www.apegs.ca/event/ipolytek-the-blockchain-beyond-cryptocurrency-online-course
LOCATION:Online
END:VEVENT
BEGIN:VEVENT
DTSTART;TZID=America/Regina:20230608T103000
DTEND;TZID=America/Regina:20230608T120000
DTSTAMP:20260422T133754
CREATED:20230529T165946Z
LAST-MODIFIED:20230529T165946Z
UID:11504-1686220200-1686225600@www.apegs.ca
SUMMARY:Pacific Climate Impacts Consortium - Introducing The Design Value Explorer – Integrating Future Climate Data into The Built Environment
DESCRIPTION:Calling all building sector professionals! We are pleased to invite you to an interactive climate change training session on PCIC’s newest web-based tool – the Design Value Explorer (DVE). The DVE is the result of a collaborative project between PCIC\, Environment and Climate Change Canada\, Infrastructure Canada\, and the National Research Council of Canada. \nThe DVE provides revised climatic design data relevant to the National Building Code of Canada and the Canadian Highway Bridge Design Code. The tool provides building professionals with historical and future-projected design values for all of Canada that incorporate projected changes in climate. \nThis session will be jointly delivered by PCIC\, the Canadian Centre for Climate Services (CCCS)\, and Engineers and Geoscientists British Columbia. It will begin with the fundamentals of climate science and an explanation of key considerations for using the tool\, leading to an in-depth demonstration of the tool itself. \nWe will examine the unique data and features of the tool that will aid building and infrastructure design professionals in the consideration of climate change risks and the incorporation of climate change into design and construction phases. \nThis session will include an interactive exercise to ensure attendees have a chance to use the tool\, ask questions\, and provide feedback. Feel free to explore the Design Value Explorer ahead of time\, and come with your questions! \nClick here for more information and to register.
URL:https://www.apegs.ca/event/pacific-climate-impacts-consortium-introducing-the-design-value-explorer-integrating-future-climate-data-into-the-built-environment
LOCATION:Online
END:VEVENT
BEGIN:VEVENT
DTSTART;TZID=America/Regina:20230608T110000
DTEND;TZID=America/Regina:20230608T123000
DTSTAMP:20260422T133754
CREATED:20230511T194640Z
LAST-MODIFIED:20230511T194640Z
UID:11389-1686222000-1686227400@www.apegs.ca
SUMMARY:Canadian Construction Documents Committee Webinar
DESCRIPTION:Gain flexibility with the CCDC 3 cost plus contract \nJoin us on June 8 from 13:00 to 14:30 (ET) for a deep-dive into CCDC 3\, a standard prime contract between the owner and prime contractor to perform the required work on an actual-cost basis. This typically includes time\, labour\, and materials\, plus a fee\, consisting of a percentage and/or fixed amount. During this 90-minute presentation\, you will learn: \n\nThe roles\, responsibilities\, and risks of each party in CCDC 3;\nHow CCDC 3 differs from the standard CCDC 2 stipulated price contract;\nWhen to use CCDC 3 and the challenges inherent to cost plus contracts;\nWhat costs are reimbursable; and\nWhat to consider when determining the contractor’s fee and execution plan.\n\nRegister today to reserve your spot! \n\nEnglish – CCDC 3 webinar: June 8\, 13:00 – 14:30 (ET)\nFrench – CCDC 3 webinar: June 22\, 13:00 – 14:30 (ET)\n\nStay informed on future webinars! Subscribe to CCDC updates 
URL:https://www.apegs.ca/event/canadian-construction-documents-committee-webinar
LOCATION:Online
END:VEVENT
BEGIN:VEVENT
DTSTART;TZID=America/Regina:20230608T183000
DTEND;TZID=America/Regina:20230608T210000
DTSTAMP:20260422T133754
CREATED:20230602T173519Z
LAST-MODIFIED:20230602T173519Z
UID:11548-1686249000-1686258000@www.apegs.ca
SUMMARY:Regina Engineering Society AGM
DESCRIPTION:Annual General Meeting for the Regina Engineering Society. There will be council positions announced\, networking and updates from 2022-2023. \nClick here to register.
URL:https://www.apegs.ca/event/regina-engineering-society-agm
LOCATION:Birmingham’s Vodka and Ale House\, 2635 Star Lite Street\, Regina\, Saskatchewan\, S4V 3E1\, Canada
END:VEVENT
BEGIN:VEVENT
DTSTART;TZID=America/Regina:20230613T073000
DTEND;TZID=America/Regina:20230613T090000
DTSTAMP:20260422T133754
CREATED:20230417T162721Z
LAST-MODIFIED:20230525T143957Z
UID:11185-1686641400-1686646800@www.apegs.ca
SUMMARY:RGI International - Get to the Point: A Practical Writing Course for Technical Professionals
DESCRIPTION:This interactive training introduces participants to the Pyramid Method of Writing(tm) and applies it to writing effective emails\, letters\, short and long reports\, and proposals. \nParticipants will receive personal feedback on three writing assignments. The format provides time to discuss and evaluate longer\, more technical documents such as recommendations\, investigations\, formal reports and studies\, and proposals. Individual and group exercises allow participants to practice the concepts and learn from each other. \nRGI International will deliver this course remotely in six 90-minute sessions on the following dates: \nTuesdays and Thursdays \n– June 13 and 15\n– June 20 and 22\n– June 27 and 29 \nFee: $1200 CND $900 US \nSeats are limited and registration ends on June 2. \nClick here to register.
URL:https://www.apegs.ca/event/rgi-international-get-to-the-point-a-practical-writing-course-for-technical-professionals
LOCATION:Online
END:VEVENT
BEGIN:VEVENT
DTSTART;TZID=America/Regina:20230616T080000
DTEND;TZID=America/Regina:20230616T170000
DTSTAMP:20260422T133754
CREATED:20230511T214139Z
LAST-MODIFIED:20230511T214139Z
UID:11419-1686902400-1686934800@www.apegs.ca
SUMMARY:iPolytek - Energy Efficiency: An Investment Opportunity – Online Course
DESCRIPTION:This online course provides engineers with an overview of the role of energy efficiency in limiting global warming\, and the techniques used to model energy consumption and estimate energy savings. A crash course in capital budgeting is also included. \nTime: 2-hour self-paced course. Access this course online 24/7 for up to 2 years. \nLocation: Online – Register anytime and gain immediate access \nClick here for more information and to register.
URL:https://www.apegs.ca/event/ipolytek-energy-efficiency-an-investment-opportunity-online-course
LOCATION:Online
END:VEVENT
BEGIN:VEVENT
DTSTART;TZID=America/Regina:20230630T080000
DTEND;TZID=America/Regina:20230630T170000
DTSTAMP:20260422T133754
CREATED:20230511T215026Z
LAST-MODIFIED:20230511T215026Z
UID:11425-1688112000-1688144400@www.apegs.ca
SUMMARY:iPolytek - Innovation through Systems Thinking: A framework for formulating great ideas and implementing changes that work - Online Course
DESCRIPTION:In this course\, we study a formal approach to innovation based on systems thinking. This process involves taking a more holistic view of a problem and considering how all the system parts interact. The objective is to design and develop new or improved\, more efficient\, effective\, and sustainable systems. \nTime: 5-hour self-paced course. Access this course online 24/7 for up to 2 years. \nLocation: Online – Register anytime and gain immediate access \nClick here for more information and to register.
URL:https://www.apegs.ca/event/ipolytek-innovation-through-systems-thinking-a-framework-for-formulating-great-ideas-and-implementing-changes-that-work-online-course
LOCATION:Online
END:VEVENT
END:VCALENDAR