BEGIN:VCALENDAR
VERSION:2.0
PRODID:-//APEGS - ECPv6.15.20//NONSGML v1.0//EN
CALSCALE:GREGORIAN
METHOD:PUBLISH
X-WR-CALNAME:APEGS
X-ORIGINAL-URL:https://www.apegs.ca
X-WR-CALDESC:Events for APEGS
REFRESH-INTERVAL;VALUE=DURATION:PT1H
X-Robots-Tag:noindex
X-PUBLISHED-TTL:PT1H
BEGIN:VTIMEZONE
TZID:America/Regina
BEGIN:STANDARD
TZOFFSETFROM:-0600
TZOFFSETTO:-0600
TZNAME:CST
DTSTART:20220101T000000
END:STANDARD
END:VTIMEZONE
BEGIN:VEVENT
DTSTART;TZID=America/Regina:20230802T080000
DTEND;TZID=America/Regina:20230802T170000
DTSTAMP:20260422T100955
CREATED:20230511T205514Z
LAST-MODIFIED:20230511T205514Z
UID:11405-1690963200-1690995600@www.apegs.ca
SUMMARY:iPolytek – The Blockchain: Beyond Cryptocurrency – Online Course
DESCRIPTION:This introductory course on the blockchain provides a global understanding of how it works and how it could transform all aspects of society\, from how we design cities to how we manage our personal data. \nIn this introductory course on the blockchain\, you will: \n\nLearn about the technology behind the blockchain. How it works\, its origin\, and its evolution over time.\nDiscover how the blockchain can decentralize organizations\, economic institutions and governments\, transforming the organizational paradigm we have known since the dawn of the industrial age.\nUnderstand the principles behind token economies and how they enable the Internet of Value.\nDiscover examples of blockchain applications in the technology\, economic\, and environmental sectors. See also how it can enable social reform.\n\nTime: 4-hour self-paced course. Access this course online 24/7 for up to 2 years. \nLocation: Online – Register anytime and gain immediate access \nClick here for more information and to register.
URL:https://www.apegs.ca/event/ipolytek-the-blockchain-beyond-cryptocurrency-online-course-2
LOCATION:Online
END:VEVENT
BEGIN:VEVENT
DTSTART;TZID=America/Regina:20230807T080000
DTEND;TZID=America/Regina:20230808T170000
DTSTAMP:20260422T100955
CREATED:20230419T171324Z
LAST-MODIFIED:20230419T171324Z
UID:11199-1691395200-1691514000@www.apegs.ca
SUMMARY:Global Tech Summit
DESCRIPTION:Get connected and transform the future of technology. \nClick here for more information and to register.
URL:https://www.apegs.ca/event/global-tech-summit
LOCATION:Toronto\, Toronto\, Ontario\, Canada
END:VEVENT
BEGIN:VEVENT
DTSTART;TZID=America/Regina:20230818T080000
DTEND;TZID=America/Regina:20230818T170000
DTSTAMP:20260422T100955
CREATED:20230511T214235Z
LAST-MODIFIED:20230511T214235Z
UID:11421-1692345600-1692378000@www.apegs.ca
SUMMARY:iPolytek – Energy Efficiency: An Investment Opportunity – Online Course
DESCRIPTION:This online course provides engineers with an overview of the role of energy efficiency in limiting global warming\, and the techniques used to model energy consumption and estimate energy savings. A crash course in capital budgeting is also included. \nTime: 2-hour self-paced course. Access this course online 24/7 for up to 2 years. \nLocation: Online – Register anytime and gain immediate access \nClick here for more information and to register.
URL:https://www.apegs.ca/event/ipolytek-energy-efficiency-an-investment-opportunity-online-course-2
LOCATION:Online
END:VEVENT
BEGIN:VEVENT
DTSTART;TZID=America/Regina:20230831T080000
DTEND;TZID=America/Regina:20230831T170000
DTSTAMP:20260422T100955
CREATED:20230511T215121Z
LAST-MODIFIED:20230511T215121Z
UID:11428-1693468800-1693501200@www.apegs.ca
SUMMARY:iPolytek – Innovation through Systems Thinking: A framework for formulating great ideas and implementing changes that work – Online Course
DESCRIPTION:In this course\, we study a formal approach to innovation based on systems thinking. This process involves taking a more holistic view of a problem and considering how all the system parts interact. The objective is to design and develop new or improved\, more efficient\, effective\, and sustainable systems. \nTime: 5-hour self-paced course. Access this course online 24/7 for up to 2 years. \nLocation: Online – Register anytime and gain immediate access \nClick here for more information and to register.
URL:https://www.apegs.ca/event/ipolytek-innovation-through-systems-thinking-a-framework-for-formulating-great-ideas-and-implementing-changes-that-work-online-course-2
LOCATION:Online
END:VEVENT
END:VCALENDAR