BEGIN:VCALENDAR
VERSION:2.0
PRODID:-//APEGS - ECPv6.15.20//NONSGML v1.0//EN
CALSCALE:GREGORIAN
METHOD:PUBLISH
X-WR-CALNAME:APEGS
X-ORIGINAL-URL:https://www.apegs.ca
X-WR-CALDESC:Events for APEGS
REFRESH-INTERVAL;VALUE=DURATION:PT1H
X-Robots-Tag:noindex
X-PUBLISHED-TTL:PT1H
BEGIN:VTIMEZONE
TZID:America/Regina
BEGIN:STANDARD
TZOFFSETFROM:-0600
TZOFFSETTO:-0600
TZNAME:CST
DTSTART:20220101T000000
END:STANDARD
END:VTIMEZONE
BEGIN:VEVENT
DTSTART;TZID=America/Regina:20231205T120000
DTEND;TZID=America/Regina:20231205T133000
DTSTAMP:20260419T075842
CREATED:20230613T173555Z
LAST-MODIFIED:20230613T173555Z
UID:11607-1701777600-1701783000@www.apegs.ca
SUMMARY:ACEC-SK Liability Insurance - Virtual Course
DESCRIPTION:Presenters: Adam D Thomson & Connor Yeo\nDate: December 5\, 2023\nTime: 12:00 PM – 1:30 PM\nPrice: $149.00 \n• Insurance Marketplace\n• Liability requirements verses Probable Exposure\n• Errors and Omission\n• Types of coverage included in E&O\n• Statute of limitations\n• Claims Reporting Requirement\n• Other coverages for consideration\n• E&O claims examples \nClick here for more information and to register.
URL:https://www.apegs.ca/event/acec-sk-liability-insurance-virtual-course
LOCATION:Online
END:VEVENT
BEGIN:VEVENT
DTSTART;TZID=America/Regina:20231205T183000
DTEND;TZID=America/Regina:20231205T200000
DTSTAMP:20260419T075842
CREATED:20231102T172147Z
LAST-MODIFIED:20231102T172147Z
UID:12167-1701801000-1701806400@www.apegs.ca
SUMMARY:Engineering Ethics - SES Lecture
DESCRIPTION:Event Format: In-person Lecture \nLocation: University of Saskatchewan – Engineering Building \nHosting Organization: Saskatoon Engineering Society (SES) \nEvent Summary: This talk will look specifically at the question of whether an AI can be the kind of thing that can be (or should be) the bearer of Intellectual Property Rights (IPRs)\, such as copyrights or patents. In particular\, what does an entity have to have\, what kind of thing does it have to be\, in order for it to be the kind of entity that can claim IPRs? \n6:30 PM—Networking with Tea & Coffee\n7:00 PM—Lecture \nThis lecture is designed to satisfy the Ethics Requirement in your APEGS Continual Professional Development for 2023. Upon request\, a certificate will be provided. \nHow to Register: Click here for more information and registration. \nEvent Contact: Saskatoon Engineering Society \nDisclaimer: The views expressed during this event are those of the hosting organization and do not necessarily represent the views of APEGS.
URL:https://www.apegs.ca/event/engineering-ethics-ses-lecture
LOCATION:University of Saskatchewan\, 57 Campus Drive\, Saskatoon\, Saskatchewan\, S7N 5A9\, Canada
END:VEVENT
BEGIN:VEVENT
DTSTART;TZID=America/Regina:20231206T080000
DTEND;TZID=America/Regina:20231206T170000
DTSTAMP:20260419T075842
CREATED:20230511T205656Z
LAST-MODIFIED:20230511T205656Z
UID:11409-1701849600-1701882000@www.apegs.ca
SUMMARY:iPolytek – The Blockchain: Beyond Cryptocurrency – Online Course
DESCRIPTION:This introductory course on the blockchain provides a global understanding of how it works and how it could transform all aspects of society\, from how we design cities to how we manage our personal data. \nIn this introductory course on the blockchain\, you will: \n\nLearn about the technology behind the blockchain. How it works\, its origin\, and its evolution over time.\nDiscover how the blockchain can decentralize organizations\, economic institutions and governments\, transforming the organizational paradigm we have known since the dawn of the industrial age.\nUnderstand the principles behind token economies and how they enable the Internet of Value.\nDiscover examples of blockchain applications in the technology\, economic\, and environmental sectors. See also how it can enable social reform.\n\nTime: 4-hour self-paced course. Access this course online 24/7 for up to 2 years. \nLocation: Online – Register anytime and gain immediate access \nClick here for more information and to register.
URL:https://www.apegs.ca/event/ipolytek-the-blockchain-beyond-cryptocurrency-online-course-4
LOCATION:Online
END:VEVENT
BEGIN:VEVENT
DTSTART;TZID=America/Regina:20231206T130000
DTEND;TZID=America/Regina:20231207T163000
DTSTAMP:20260419T075842
CREATED:20230530T164457Z
LAST-MODIFIED:20230530T164457Z
UID:11523-1701867600-1701966600@www.apegs.ca
SUMMARY:Mental Health First Aid Standard (Virtual)
DESCRIPTION:Mental Health First Aid (MHFA) is a nationally recognized certification course developed by the Mental Health Commission of Canada.  The course aims to develop the skills of participants in providing help to a person experiencing a mental health and/or substance use problem or crisis. Just like physical first aid is provided until medical treatment can be obtained\, MHFA is given until appropriate support is found or until the crisis is resolved. \nThe virtual course is delivered in a blended learning format. \nSelf-Directed Learning \nTwo weeks prior to the course start date\, participants will receive log-in details for the Learning Management System. In the two weeks leading up to the facilitator led virtual classrooms\, participants must complete: \n\nModule One – self directed learning (2hrs)\nSelf directed reading of the participant reference guide ~150 pages (3hrs)\n\nFacilitator Led Virtual ZOOM Classrooms \n\nModule Two –  facilitator led session (3.5hrs) **3.25hrs plus break time** [1-430pm CST (SK Time)]\nModule Three – facilitator led session (3.5hrs) **3.25hrs plus break time**[1-430pm CST (SK Time)]\n\nTechnology considerations: Each participant is requited to have a device with audio and video capabilities for the ZOOM virtual classroom sessions. \nClick here for more information and to register.
URL:https://www.apegs.ca/event/mental-health-first-aid-standard-virtual-7
LOCATION:Online
END:VEVENT
BEGIN:VEVENT
DTSTART;VALUE=DATE:20231207
DTEND;VALUE=DATE:20231209
DTSTAMP:20260419T075842
CREATED:20231115T214609Z
LAST-MODIFIED:20231115T214644Z
UID:12253-1701907200-1702079999@www.apegs.ca
SUMMARY:Get to the Point!
DESCRIPTION:Event Format: In-person course \nLocation: Winnipeg\, MB \nHosting Organization: RGI International \nEvent Summary: This interactive training introduces participants to the Pyramid Method of Writing(tm) and applies it to writing effective emails\, letters\, short and long reports\, and proposals. \nParticipants will receive personal feedback on three writing assignments. The format provides time to discuss and evaluate longer more technical documents such as recommendations\, investigations\, formal reports and studies\, and proposals. Individual and group exercises allow participants to practice the concepts and learn from each other. \nHow to Register: Click here for more information and registration. \nEvent Contact: RGI International \nDisclaimer: The views expressed during this event are those of the hosting organization and do not necessarily represent the views of APEGS.
URL:https://www.apegs.ca/event/get-to-the-point
LOCATION:Winnipeg\, Manitoba\, Winnipeg\, Manitoba\, Canada
END:VEVENT
BEGIN:VEVENT
DTSTART;TZID=America/Regina:20231212T120000
DTEND;TZID=America/Regina:20231212T130000
DTSTAMP:20260419T075842
CREATED:20231121T165932Z
LAST-MODIFIED:20231128T221130Z
UID:12275-1702382400-1702386000@www.apegs.ca
SUMMARY:Highway 369 Landslide Repair
DESCRIPTION:Event Format: In-person Presentation \nLocation: Park Town Hotel\, Saskatoon\, SK \nHosting Organization: Saskatoon Geotechnical Group \nEvent Summary: A fast-moving landslide resulted in the closure of Highway 369 in southeastern Saskatchewan. Thurber Engineering was retained by the Ministry of Highways to assess the landslide\, prepare a remedial design\, and oversee construction. The presentation goes through a background of the site\, Thurber’s assessment of the site and landslide mechanisms\, remedial design options and considerations\, and final design processes as well as some highlights from construction. Tickets are required to attend this event. \nHow to Register: Click here for more information and registration. \nEvent Contact: Saskatoon Geotechnical Group \nDisclaimer: The views expressed during this event are those of the hosting organization and do not necessarily represent the views of APEGS.
URL:https://www.apegs.ca/event/highway-369-landslide-repair
LOCATION:Park Town Hotel\, 924 Spadina Crescent E\, Saskatoon\, Saskatchewan\, S7K 3H5\, Canada
END:VEVENT
BEGIN:VEVENT
DTSTART;TZID=America/Regina:20231213T130000
DTEND;TZID=America/Regina:20231214T163000
DTSTAMP:20260419T075842
CREATED:20230530T164630Z
LAST-MODIFIED:20230530T164630Z
UID:11525-1702472400-1702571400@www.apegs.ca
SUMMARY:Mental Health First Aid Standard (Virtual)
DESCRIPTION:Mental Health First Aid (MHFA) is a nationally recognized certification course developed by the Mental Health Commission of Canada.  The course aims to develop the skills of participants in providing help to a person experiencing a mental health and/or substance use problem or crisis. Just like physical first aid is provided until medical treatment can be obtained\, MHFA is given until appropriate support is found or until the crisis is resolved. \nThe virtual course is delivered in a blended learning format. \nSelf-Directed Learning \nTwo weeks prior to the course start date\, participants will receive log-in details for the Learning Management System. In the two weeks leading up to the facilitator led virtual classrooms\, participants must complete: \n\nModule One – self directed learning (2hrs)\nSelf directed reading of the participant reference guide ~150 pages (3hrs)\n\nFacilitator Led Virtual ZOOM Classrooms \n\nModule Two –  facilitator led session (3.5hrs) **3.25hrs plus break time** [1-430pm CST (SK Time)]\nModule Three – facilitator led session (3.5hrs) **3.25hrs plus break time**[1-430pm CST (SK Time)]\n\nTechnology considerations: Each participant is requited to have a device with audio and video capabilities for the ZOOM virtual classroom sessions. \nClick here for more information and to register.
URL:https://www.apegs.ca/event/mental-health-first-aid-standard-virtual-8
LOCATION:Online
END:VEVENT
BEGIN:VEVENT
DTSTART;TZID=America/Regina:20231216T120000
DTEND;TZID=America/Regina:20231216T163000
DTSTAMP:20260419T075842
CREATED:20231115T215848Z
LAST-MODIFIED:20231115T215848Z
UID:12256-1702728000-1702744200@www.apegs.ca
SUMMARY:LEED Green Associate Training
DESCRIPTION:Event Format: Live Webinar \nLocation: Online \nHosting Organization: Leading Green \nEvent Summary: LEED (Leadership in Energy and Environmental Design) is simply a sustainability scorecard for green buildings. The LEED Green Associate is the only professional designation to show employers and clients you have certified knowledge in the field. \nTo date\, this course and its materials have proven to be instrumental in helping over 8000 students pass their respective exams at a 99% pass rate. This course is instructed by a USGBC Faculty member.  Use discount code ‘sust’ for $100 off the course price. \nTopics Covered \n\nIntroduction to LEED\nLocation and transportation\nSustainable sites\nWater efficiency\nEnergy and atmosphere\nMaterials and resources\nIndoor environmental quality\nInnovation in design and regional priority\nExam registration and preparation\n\nHow to Register: Click here for more information and registration. \nEvent Contact: Lorne Mlotek\, Head LEED Trainer at LeadingGreen – info@leadinggreen.com \nDisclaimer: The views expressed during this event are those of the hosting organization and do not necessarily represent the views of APEGS.
URL:https://www.apegs.ca/event/leed-green-associate-training-14
LOCATION:Online
END:VEVENT
BEGIN:VEVENT
DTSTART;TZID=America/Regina:20231231T080000
DTEND;TZID=America/Regina:20231231T170000
DTSTAMP:20260419T075842
CREATED:20230511T215251Z
LAST-MODIFIED:20230511T215251Z
UID:11432-1704009600-1704042000@www.apegs.ca
SUMMARY:iPolytek – Innovation through Systems Thinking: A framework for formulating great ideas and implementing changes that work – Online Course
DESCRIPTION:In this course\, we study a formal approach to innovation based on systems thinking. This process involves taking a more holistic view of a problem and considering how all the system parts interact. The objective is to design and develop new or improved\, more efficient\, effective\, and sustainable systems. \nTime: 5-hour self-paced course. Access this course online 24/7 for up to 2 years. \nLocation: Online – Register anytime and gain immediate access \nClick here for more information and to register.
URL:https://www.apegs.ca/event/ipolytek-innovation-through-systems-thinking-a-framework-for-formulating-great-ideas-and-implementing-changes-that-work-online-course-4
LOCATION:Online
END:VEVENT
END:VCALENDAR