BEGIN:VCALENDAR
VERSION:2.0
PRODID:-//APEGS - ECPv6.15.20//NONSGML v1.0//EN
CALSCALE:GREGORIAN
METHOD:PUBLISH
X-ORIGINAL-URL:https://www.apegs.ca
X-WR-CALDESC:Events for APEGS
REFRESH-INTERVAL;VALUE=DURATION:PT1H
X-Robots-Tag:noindex
X-PUBLISHED-TTL:PT1H
BEGIN:VTIMEZONE
TZID:America/Regina
BEGIN:STANDARD
TZOFFSETFROM:-0600
TZOFFSETTO:-0600
TZNAME:CST
DTSTART:20230101T000000
END:STANDARD
END:VTIMEZONE
BEGIN:VEVENT
DTSTART;TZID=America/Regina:20240905T120000
DTEND;TZID=America/Regina:20240905T130000
DTSTAMP:20260422T025104
CREATED:20240801T213712Z
LAST-MODIFIED:20240903T160556Z
UID:14385-1725537600-1725541200@www.apegs.ca
SUMMARY:Navigating the 2024 APEGS CPD Program: Myths\, Misconceptions and Updates
DESCRIPTION:Date: September 5\, 2024 \nTime: 12:00 PM – 1:00 PM CST (Saskatchewan Time) \nEvent Format: Live Webinar – Microsoft Teams \nHosting Organization: APEGS – A Live Webinar Series Presentation \nEvent Summary: Join APEGS staff for an informative session where we debunk myths\, clarify misconceptions\, and discuss the latest updates about the APEGS Continuing Professional Development (CPD) Program. \nTopics explored in this webinar include: \n\nMyths Unveiled: Separate fact from fiction regarding CPD requirements.\nCommon Misconceptions: Address misconceptions that might hinder your progress.\n2024 Program Updates: Stay ahead with the latest program enhancements.\nEligible Activities: Refresher on which activities are eligible for CPD credit.\nEfficient Reporting to APEGS: Understand the process of documenting and reporting your CPD information to APEGS.\n\nWho Should Attend: APEGS members who are already familiar with the CPD Program and want to learn more about the 2024 program changes. \nGeneral Information: There is no cost to attend\, but registration is required. This webinar is eligible for Formal Activity CPD credit. \nThis event will be held live on the Microsoft Teams platform.  The meeting link will be sent by end of day on September 3\, 2024 to the email address in which you registered for this event. \nNOTE: Clicking the ‘Add to Calendar’ button below does NOT register you for this event. Please use the link below to register. \nRegistration is now closed. If you need to cancel your registration to this event\, please email cpd@apegs.ca. \nEvent Contact: APEGS Professional Development Department – Angela Foster or Jolene Arthur – cpd@apegs.ca
URL:https://www.apegs.ca/event/navigating-the-2024-apegs-cpd-program-myths-misconceptions-and-updates
END:VEVENT
BEGIN:VEVENT
DTSTART;TZID=America/Regina:20240912T170000
DTEND;TZID=America/Regina:20240912T193000
DTSTAMP:20260422T025104
CREATED:20240812T195810Z
LAST-MODIFIED:20240906T145626Z
UID:14446-1726160400-1726169400@www.apegs.ca
SUMMARY:Member Update and Engagement Event
DESCRIPTION:Date: September 12\, 2024 \nTime: 5:00 PM – 7:30 PM CST (Saskatchewan Time) \nEvent Format: In Person and Virtual \nLocation: Delta Downtown Saskatoon\, SK / Pheedloop event app \nHosting Organization: APEGS \nEvent Summary: Registration is open for APEGS’ Member Update and Engagement Event on Thursday\, September 12\, 2024\, from 5:00 PM to 7:30 PM (CST) at the Delta Downtown Saskatoon. This interactive session will focus on significant initiatives underway at APEGS including governance evolution\, the act and bylaw review\, expanded regulation of firms\, and the Continuing Professional Development (CPD) Program changes.  Attendance at this event is eligible for Formal Activity CPD credit. \nRegistration is now closed.  If you have registered\, watch for your reminder email.
URL:https://www.apegs.ca/event/member-update-and-engagement-event
END:VEVENT
BEGIN:VEVENT
DTSTART;TZID=America/Regina:20240918T073000
DTEND;TZID=America/Regina:20240918T161500
DTSTAMP:20260422T025104
CREATED:20240731T142708Z
LAST-MODIFIED:20240731T142708Z
UID:14377-1726644600-1726676100@www.apegs.ca
SUMMARY:2024 Mine Your Potential Conference
DESCRIPTION:Date: September 18\, 2024 \nTime: 7:30 AM – 4:15 PM \nEvent Format: Conference \nLocation: Saskatoon\, SK \nHosting Organization: Women in Mining/Women in Nuclear Saskatchewan \nEvent Summary: The conference will include incredible opportunities for networking\, panel discussions\, and break-out sessions. Topics include collaboration\, personal growth and professional development\, team building\, and more. In the hybrid format\, we offer you the option of participating in-person or joining the sessions virtually. Networking with in-person attendees and participating in the session discussions will not be available in the virtual format. \nHow to Register: Click here for more information and to register \nEvent Contact: WIM / WiN – SK; admin@wimwinsk.com \nDisclaimer: The views expressed during this event are those of the hosting organization and do not necessarily represent the views of APEGS.
URL:https://www.apegs.ca/event/2024-mine-your-potential-conference
END:VEVENT
BEGIN:VEVENT
DTSTART;TZID=America/Regina:20240924T173000
DTEND;TZID=America/Regina:20240924T183000
DTSTAMP:20260422T025104
CREATED:20240819T174540Z
LAST-MODIFIED:20240920T221519Z
UID:14387-1727199000-1727202600@www.apegs.ca
SUMMARY:Navigating the 2024 APEGS CPD Program: Myths\, Misconceptions and Updates - SOLD OUT
DESCRIPTION:Date: September 24\, 2024 \nTime: 5:30 PM – 6:30 PM CST (Saskatchewan Time) \nEvent Format: Live Webinar – Microsoft Teams \nHosting Organization: APEGS – A Live Webinar Series Presentation \nEvent Summary: Join APEGS staff for an informative session where we debunk myths\, clarify misconceptions\, and discuss the latest updates about the APEGS Continuing Professional Development (CPD) Program. \nTopics explored in this webinar include: \n\nMyths Unveiled: Separate fact from fiction regarding CPD requirements.\nCommon Misconceptions: Address misconceptions that might hinder your progress.\n2024 Program Updates: Stay ahead with the latest program enhancements.\nEligible Activities: Refresher on which activities are eligible for CPD credit.\nEfficient Reporting to APEGS: Understand the process of documenting and reporting your CPD information to APEGS.\n\nWho Should Attend: APEGS members who are already familiar with the CPD Program and want to learn more about the 2024 program changes. \nGeneral Information: There is no cost to attend\, but registration is required. This webinar is eligible for Formal Activity CPD credit. \nThis event will be held live on the Microsoft Teams platform.  The meeting link will be sent by end of day on September 20\, 2024 to the email address in which you registered for this event. \nNOTE:  Clicking the ‘Add to Calendar’ button below does NOT register you for this event. Please use the link below to register. \nHow to Register:  Registration is now closed.  If you need to cancel your registration to this event\, please email cpd@apegs.ca \nDue to high demand\, APEGS will be holding this webinar again on October 9\, 2024\, from 5:30 PM – 6:30 PM CST (Saskatchewan Time). Registration for the October 9th webinar is now open. \nEvent Contact: APEGS Professional Development Department – Angela Foster or Jolene Arthur – cpd@apegs.ca \n 
URL:https://www.apegs.ca/event/navigating-the-2024-apegs-cpd-program-myths-misconceptions-and-updates-2
END:VEVENT
BEGIN:VEVENT
DTSTART;TZID=America/Regina:20240926T170000
DTEND;TZID=America/Regina:20240926T170000
DTSTAMP:20260422T025104
CREATED:20240918T160054Z
LAST-MODIFIED:20240918T160054Z
UID:14619-1727370000-1727370000@www.apegs.ca
SUMMARY:Saskatoon Engineering Society - Annual General Meeting
DESCRIPTION:Date: September 26\, 2024 \nTime: 5:00 pm \nLocation:  Saskatoon\, SK \nHosting Organization: Saskatoon Engineering Society (SES) \nEvent Summary: All Engineers\, Engineers-In-Training and students are welcome \nEvent highlights: \n\nTour the Western Development Museum\nGuest Lecture\nSupper with Fellow Members\nVote on bylaw amendments and new executive members\nAwards\n\nCost: Tour\, Supper and AGM = $15:  AGM Only = Free \nHow to Register: Click here for more information and to register \nEvent Contact: Saskatoon Engineering Society; https://www.saskatoonengineers.com/ses_new/public/home \nDisclaimer: The views expressed during this event are those of the hosting organization and do not necessarily represent the views of APEGS.
URL:https://www.apegs.ca/event/saskatoon-engineering-society-annual-general-meeting-2
END:VEVENT
END:VCALENDAR